BEGIN:VCALENDAR
VERSION:2.0
PRODID:-//ChamberMaster//Event Calendar 2.0//EN
METHOD:PUBLISH
X-PUBLISHED-TTL:P3D
REFRESH-INTERVAL:P3D
CALSCALE:GREGORIAN
BEGIN:VEVENT
DTSTART:20150929T230000Z
DTEND:20150930T020000Z
X-MICROSOFT-CDO-ALLDAYEVENT:FALSE
SUMMARY:Theatre Young Harris to Present Award-Winning Play "Sylvia"
DESCRIPTION:The award-winning play tells the story of a dog named Sylvia\, the couple who adopts her and the resulting comedy. Based in New York City in the 1990s\, audiences receive an inside look into the romantic triangle that is the result of one man's mid-life crisis.\n\n  \n\n  The production is directed by senior theatre major Stephanie Rodock\, of Covington\, Ga.\, and features sophomore theatre major Morgan Mims\, of Dearing\, Ga.\, as Sylvia\, junior theatre majors Shannon Wade\, of Fayetteville\, Ga.\, as Kate\, and Macaulay Vanhoose\, of Woodstock\, Ga.\, as Greg\, and Dean of the Division of Fine Arts and Assistant Professor of Theatre Chris Crawford\, as Tom\, Phyllis and Leslie.\n\n  \n\n  "Sylvia" is part of Theatre Young Harris' Studio Series which features productions showcasing student direction and provides an invaluable educational experience that focuses on the fundamentals of the production process.\n\n  \n\n  Theatre Young Harris is a performing arts organization of the College. Each season\, the theatre company presents a full lineup of notable productions\, including full-length musicals\, innovative dramas\, classic plays\, children's shows and more. Auditions are open to YHC students\, faculty and staff as well as the community.
X-ALT-DESC;FMTTYPE=text/html:<span style="font-size: medium\;"><span style="font-family: consolas\;">The award-winning play tells the story of a dog named Sylvia\, the couple who adopts her and the resulting comedy. Based in New York City in the 1990s\, audiences receive an inside look into the romantic triangle that is the result of one man&#39\;s mid-life crisis.</span></span><br />\n<span style="font-size: medium\;"><span style="font-family: consolas\;">&gt\; </span></span><br />\n<span style="font-size: medium\;"><span style="font-family: consolas\;">&gt\; The production is directed by senior theatre major Stephanie Rodock\, of Covington\, Ga.\, and features sophomore theatre major Morgan Mims\, of Dearing\, Ga.\, as Sylvia\, junior theatre majors Shannon Wade\, of Fayetteville\, Ga.\, as Kate\, and Macaulay Vanhoose\, of Woodstock\, Ga.\, as Greg\, and Dean of the Division of Fine Arts and Assistant Professor of Theatre Chris Crawford\, as Tom\, Phyllis and Leslie.</span></span><br />\n<span style="font-size: medium\;"><span style="font-family: consolas\;">&gt\; </span></span><br />\n<span style="font-size: medium\;"><span style="font-family: consolas\;">&gt\; &quot\;Sylvia&quot\; is part of Theatre Young Harris&#39\; Studio Series which features productions showcasing student direction and provides an invaluable educational experience that focuses on the fundamentals of the production process.</span></span><br />\n<span style="font-size: medium\;"><span style="font-family: consolas\;">&gt\; </span></span><br />\n<span style="font-size: medium\;"><span style="font-family: consolas\;">&gt\; Theatre Young Harris is a performing arts organization of the College. Each season\, the theatre company presents a full lineup of notable productions\, including full-length musicals\, innovative dramas\, classic plays\, children&#39\;s shows and more. Auditions are open to YHC students\, faculty and staff as well as the community.</span></span><br />\n&nbsp\;
LOCATION:Glenn Auditorium of the Clegg Fine Arts Building on the YHC campus
UID:e.256.44199
SEQUENCE:3
DTSTAMP:20260423T122056Z
URL:https://members.visitblairsvillega.com/events/details/theatre-young-harris-to-present-award-winning-play-sylvia-09-29-2015-44199
END:VEVENT

END:VCALENDAR
