BEGIN:VCALENDAR
VERSION:2.0
PRODID:-//ChamberMaster//Event Calendar 2.0//EN
METHOD:PUBLISH
X-PUBLISHED-TTL:P3D
REFRESH-INTERVAL:P3D
CALSCALE:GREGORIAN
BEGIN:VEVENT
DTSTART:20151115T190000Z
DTEND:20151115T210000Z
X-MICROSOFT-CDO-ALLDAYEVENT:FALSE
SUMMARY:Theatre Young Harris to Present Critically Acclaimed "Almost\, Maine"
DESCRIPTION:Young Harris College's Theatre Young Harris will present six performances of John Cariani's critically acclaimed play "Almost\, Maine" in Dobbs Theatre located in Goolsby Center on the YHC Campus.
X-ALT-DESC;FMTTYPE=text/html:<span style="font-family: &quot\;Arial&quot\;\,&quot\;sans-serif&quot\;\; font-size: 10pt\; mso-fareast-font-family: Calibri\; mso-fareast-theme-font: minor-latin\; mso-ansi-language: EN-US\; mso-fareast-language: EN-US\; mso-bidi-language: AR-SA\;"><font color="#000000">Young Harris College&rsquo\;s Theatre Young Harris will present six performances of John Cariani&rsquo\;s critically acclaimed play &ldquo\;Almost\, Maine&rdquo\; in Dobbs Theatre located in Goolsby Center on the YHC Campus. </font></span>
LOCATION:Dobbs Theatre located in Goolsby Center on the YHC Campus.
UID:e.256.44414
SEQUENCE:3
DTSTAMP:20260423T085759Z
URL:https://members.visitblairsvillega.com/events/details/theatre-young-harris-to-present-critically-acclaimed-almost-maine-11-15-2015-44414
END:VEVENT

END:VCALENDAR
