BEGIN:VCALENDAR
VERSION:2.0
PRODID:-//ChamberMaster//Event Calendar 2.0//EN
METHOD:PUBLISH
X-PUBLISHED-TTL:P3D
REFRESH-INTERVAL:P3D
CALSCALE:GREGORIAN
BEGIN:VEVENT
DTSTART:20151205T160000Z
DTEND:20151205T200000Z
X-MICROSOFT-CDO-ALLDAYEVENT:FALSE
SUMMARY:Third Annual Holiday Open House
DESCRIPTION:Interact with our alpacas\, get kisses for feeding them treats\, watch fiber demos\, and see items made from their luxurious fleece. Some arts & crafts plus BOGO gift items & special discounts\, snacks\, and prize drawings. CUTE TOYS\, TOO!!
X-ALT-DESC;FMTTYPE=text/html:Interact with our alpacas\, get kisses for feeding them treats\, watch fiber demos\, and see items made from their luxurious fleece. Some arts &amp\; crafts plus BOGO gift items &amp\; special discounts\, snacks\, and prize drawings. CUTE TOYS\, TOO!!
LOCATION:1338 Henson Rd Blairsville\, GA
UID:e.256.45123
SEQUENCE:3
DTSTAMP:20260421T074003Z
URL:https://members.visitblairsvillega.com/events/details/third-annual-holiday-open-house-12-05-2015-45123
END:VEVENT

END:VCALENDAR
