BEGIN:VCALENDAR
VERSION:2.0
PRODID:-//ChamberMaster//Event Calendar 2.0//EN
METHOD:PUBLISH
X-PUBLISHED-TTL:P3D
REFRESH-INTERVAL:P3D
CALSCALE:GREGORIAN
BEGIN:VEVENT
DTSTART:20140712T160000Z
DTEND:20140712T180000Z
X-MICROSOFT-CDO-ALLDAYEVENT:FALSE
SUMMARY:Thunder Moon at Paradise Hills Resort
DESCRIPTION:July is the THUNDER MOON\, full moon ~ July 12th\, Saturday from 12 noon - 2 p.m. Come celebrate this month's full moon with a free bowl of homemade chili with any purchase of wine. Try our dedicated "Thunder Moon Reserve" red with a bowl of chili and you will be smiling ear-to-ear.
X-ALT-DESC;FMTTYPE=text/html:July is the THUNDER MOON\, full moon ~ July 12th\, Saturday from 12 noon - 2 p.m. Come celebrate this month&#39\;s full moon with a free bowl of homemade chili with any purchase of wine. Try our dedicated &quot\;Thunder Moon Reserve&quot\; red with a bowl of chili and you will be smiling ear-to-ear.
LOCATION:Paradise Hills Resort\, Spa & Winery 366 Paradise Road/129 South Blairsville
UID:e.256.24900
SEQUENCE:3
DTSTAMP:20260424T091953Z
URL:https://members.visitblairsvillega.com/events/details/thunder-moon-at-paradise-hills-resort-07-12-2014-24900
END:VEVENT

END:VCALENDAR
