BEGIN:VCALENDAR
VERSION:2.0
PRODID:-//ChamberMaster//Event Calendar 2.0//EN
METHOD:PUBLISH
X-PUBLISHED-TTL:P3D
REFRESH-INTERVAL:P3D
CALSCALE:GREGORIAN
BEGIN:VEVENT
DTSTART:20160126T130000Z
DTEND:20160126T170000Z
X-MICROSOFT-CDO-ALLDAYEVENT:FALSE
SUMMARY:THYROID AWARENESS MONTH EVENT
DESCRIPTION:FREE TSH (THYROID SCREENING) TO FIRST 50 PERSONS WHO SCHEDULE TESTING APPOINTMENT (NECESSARY)-OPEN TO THE GENERAL PUBLIC.     TSH WILL BE DRAWN AND RESULTS FORWARDED TO PRIMARY CARE PHYSICIAN
X-ALT-DESC;FMTTYPE=text/html:<strong><span style="font-size: 16pt\;"><span style="font-family: calibri\;">FREE TSH (</span><span style="font-family: calibri\;">THYROID SCREENING) TO FIRST 50 PERSONS WHO SCHEDULE TESTING APPOINTMENT (NECESSARY)-OPEN TO THE GENERAL PUBLIC.&nbsp\;&nbsp\;&nbsp\;&nbsp\; TSH WILL BE DRAWN AND RESULTS FORWARDED TO PRIMARY CARE PHYSICIAN</span></span></strong><br />\n<br />\n&nbsp\;
LOCATION:AT HEALING HANDS COMMUNITY CLINIC\, 64 BRACKETT'S WAY\, SUITE 3
UID:e.256.47438
SEQUENCE:3
DTSTAMP:20260421T055632Z
URL:https://members.visitblairsvillega.com/events/details/thyroid-awareness-month-event-01-26-2016-47438
END:VEVENT

END:VCALENDAR
