BEGIN:VCALENDAR
VERSION:2.0
PRODID:-//ChamberMaster//Event Calendar 2.0//EN
METHOD:PUBLISH
X-PUBLISHED-TTL:P3D
REFRESH-INTERVAL:P3D
CALSCALE:GREGORIAN
BEGIN:VEVENT
DTSTART:20140615T220000Z
DTEND:20140615T233000Z
X-MICROSOFT-CDO-ALLDAYEVENT:FALSE
SUMMARY:Tim Zimmerman and the King's Brass
DESCRIPTION:Tim Zimmerman and The King's Brass\, formed 35 years ago\, features three trumpets\, three trombones\, a tuba\, percussion and keyboards presenting hymn classics with a contemporary flair.  These instruments blend together to create a time of innovative worship that will be enjoyed by all generations. The group is comprised of professional musicians from across the country\, who desire to use the instruments they love to lead others in praise and worship.
X-ALT-DESC;FMTTYPE=text/html:Tim Zimmerman and The King&#39\;s Brass\, formed 35 years ago\, features three trumpets\, three trombones\, a tuba\, percussion and keyboards presenting hymn classics with a contemporary flair. &nbsp\;These instruments blend together to create a time of innovative worship that will be enjoyed by all generations. The group is comprised of professional musicians from across the country\, who desire to use the instruments they love to lead others in praise and worship.
LOCATION:First Baptist Church of Blairsville\, GA 296 Blue Ridge Street Blairsville\, GA 30512
UID:e.256.24310
SEQUENCE:3
DTSTAMP:20260424T105358Z
URL:https://members.visitblairsvillega.com/events/details/tim-zimmerman-and-the-king-s-brass-06-15-2014-24310
END:VEVENT

END:VCALENDAR
