BEGIN:VCALENDAR
VERSION:2.0
PRODID:-//ChamberMaster//Event Calendar 2.0//EN
METHOD:PUBLISH
X-PUBLISHED-TTL:P3D
REFRESH-INTERVAL:P3D
CALSCALE:GREGORIAN
BEGIN:VEVENT
DTSTART:20160807T220000Z
DTEND:20160808T000000Z
X-MICROSOFT-CDO-ALLDAYEVENT:FALSE
SUMMARY:Tim Zimmerman and the King's Brass
DESCRIPTION:Come and hear Tim Zimmerman and the King's Brass as they present an energetic concert at First Baptist Church of Blairsville.
X-ALT-DESC;FMTTYPE=text/html:Come and hear Tim Zimmerman and the King&#39\;s Brass as they present an energetic concert at First Baptist Church of Blairsville.
LOCATION:First Baptist Church of Blairsville
UID:e.256.51273
SEQUENCE:3
DTSTAMP:20260420T164708Z
URL:https://members.visitblairsvillega.com/events/details/tim-zimmerman-and-the-king-s-brass-08-07-2016-51273
END:VEVENT

END:VCALENDAR
