BEGIN:VCALENDAR
VERSION:2.0
PRODID:-//ChamberMaster//Event Calendar 2.0//EN
METHOD:PUBLISH
X-PUBLISHED-TTL:P3D
REFRESH-INTERVAL:P3D
CALSCALE:GREGORIAN
BEGIN:VEVENT
DTSTART:20160410T230000Z
DTEND:20160411T020000Z
X-MICROSOFT-CDO-ALLDAYEVENT:FALSE
SUMMARY:Time of My Life Tour: The Afters\, Chris August\, Unspoken\, Among the Thirsty
DESCRIPTION:Date: April 10\, 2016 Show Time: 7pm Ticket Prices: $17\, $20 Compassion International is proud to present the Time of My Life Tour featuring THE AFTERS\, CHRIS AUGUST and UNSPOKEN with special guest\, AMONG THE THIRSTY. Join us for a once-in-a-lifetime evening of spectacular celebration and worship with some of the leading names in Contemporary Christian music\, together on one stage.
X-ALT-DESC;FMTTYPE=text/html:Date: April 10\, 2016 Show Time: 7pm Ticket Prices: $17\, $20 Compassion International is proud to present the Time of My Life Tour featuring THE AFTERS\, CHRIS AUGUST and UNSPOKEN with special guest\, AMONG THE THIRSTY. Join us for a once-in-a-lifetime evening of spectacular celebration and worship with some of the leading names in Contemporary Christian music\, together on one stage.
LOCATION:Smoky Mountain Center for the Performing Arts 1028 Georgia Road Franklin\, NC 28734
UID:e.256.48258
SEQUENCE:3
DTSTAMP:20260421T003037Z
URL:https://members.visitblairsvillega.com/events/details/time-of-my-life-tour-the-afters-chris-august-unspoken-among-the-thirsty-04-10-2016-48258
END:VEVENT

END:VCALENDAR
