BEGIN:VCALENDAR
VERSION:2.0
PRODID:-//ChamberMaster//Event Calendar 2.0//EN
METHOD:PUBLISH
X-PUBLISHED-TTL:P3D
REFRESH-INTERVAL:P3D
CALSCALE:GREGORIAN
BEGIN:VEVENT
DTSTART:20150629T140000Z
DTEND:20150630T020000Z
X-MICROSOFT-CDO-ALLDAYEVENT:FALSE
SUMMARY:TNT Fireworks Fundraiser - hosted by Neighbor's Hand
DESCRIPTION:Neighbor's Hand will be holding a fundraiser selling TNT Fireworks at the TENT at WAL-MART (Hwy 515 in Blairsville) from Monday\, June 29 to Sunday\, July 5. We will be open 10am to 10pm and we are raising money to support the HOPE Discipleship program - women's home\, and future homes for men and families. Come by and check out our BOGO (buy one get one) specials and register to win a free TNT Super Combo. Download a $10 off coupon at www.tntfireworks.com.
X-ALT-DESC;FMTTYPE=text/html:<span style="color:rgb(20\, 24\, 35)\; font-family:helvetica\,arial\,sans-serif\; font-size:14px">Neighbor&#39\;s Hand will be holding a fundraiser selling TNT Fireworks at the TENT at WAL-MART (Hwy 515 in Blairsville) from Monday\, June 29 to Sunday\, July 5. We will be open 10am to 10pm and we are raising money to support the HOPE Discipleship program - women&#39\;s home\, and future homes for men and families. Come by and check out our BOGO (buy one get one) specials and register to win a free TNT Super Combo. Download a $10 off coupon at&nbsp\;</span><a href="http://l.facebook.com/l.php?u=http%3A%2F%2Fwww.tntfireworks.com%2F&amp\;h=2AQG9ys9s&amp\;enc=AZMCmgL0PSfi8-JD8KtQHpARLtwnvY7tN2pFpWvpP1QE0doKUyWueI-QPSeCZuzk7g0&amp\;s=1" rel="nofollow nofollow" style="color: rgb(59\, 89\, 152)\; cursor: pointer\; text-decoration: none\; font-family: helvetica\, arial\, sans-serif\; font-size: 14px\; line-height: 18.7600002288818px\;" target="_blank">www.tntfireworks.com.</a>
LOCATION:Wal-Mart Blairsville
UID:e.256.40412
SEQUENCE:3
DTSTAMP:20260423T165455Z
URL:https://members.visitblairsvillega.com/events/details/tnt-fireworks-fundraiser-hosted-by-neighbor-s-hand-06-29-2015-40412
END:VEVENT

END:VCALENDAR
