BEGIN:VCALENDAR
VERSION:2.0
PRODID:-//ChamberMaster//Event Calendar 2.0//EN
METHOD:PUBLISH
X-PUBLISHED-TTL:P3D
REFRESH-INTERVAL:P3D
CALSCALE:GREGORIAN
BEGIN:VEVENT
DTSTART:20150717T233000Z
DTEND:20150718T013000Z
X-MICROSOFT-CDO-ALLDAYEVENT:FALSE
SUMMARY:TobyMac
DESCRIPTION:With 11 million career albums sold and 6 GRAMMY Awards to his credit\, TobyMac refuses to settle on past accomplishments\, as he remains passionate about his desire to write songs at the intersection where life and spirituality collide. From his early days in influential group dcTalk to his very first solo album\, Momentum\, Toby has worked hard to inspire his audience with words of conviction\, hope\, empowerment and the redemption found in his faith in God. "What is it like to live a life of faith? It doesn't look perfect\, I can promise you that\," Toby admits. "We're all struggling. We're struggling to mend relationships\, to love people well\, and to love God. But the gift of walking this life of faith is that you can make it right each day. You can turn and start over\, determined\, with your eye on it." With its messages of perseverance\, determination and hope\, Toby's work is further proof that music can better lives\, reassure listeners that it is indeed possible to find grace.
X-ALT-DESC;FMTTYPE=text/html:With 11 million career albums sold and 6 GRAMMY Awards to his credit\, TobyMac refuses to settle on past accomplishments\, as he remains passionate about his desire to write songs at the intersection where life and spirituality collide. From his early days in influential group dcTalk to his very first solo album\, Momentum\, Toby has worked hard to inspire his audience with words of conviction\, hope\, empowerment and the redemption found in his faith in God. &quot\;What is it like to live a life of faith? It doesn&#39\;t look perfect\, I can promise you that\,&quot\; Toby admits. &quot\;We&#39\;re all struggling. We&#39\;re struggling to mend relationships\, to love people well\, and to love God. But the gift of walking this life of faith is that you can make it right each day. You can turn and start over\, determined\, with your eye on it.&quot\; With its messages of perseverance\, determination and hope\, Toby&#39\;s work is further proof that music can better lives\, reassure listeners that it is indeed possible to find grace.
LOCATION:Smoky Mountain Center for the Performing Arts 1028 Georgia Road Franklin\, NC 28734
UID:e.256.40407
SEQUENCE:3
DTSTAMP:20260423T163813Z
URL:https://members.visitblairsvillega.com/events/details/tobymac-07-17-2015-40407
END:VEVENT

END:VCALENDAR
