BEGIN:VCALENDAR
VERSION:2.0
PRODID:-//ChamberMaster//Event Calendar 2.0//EN
METHOD:PUBLISH
X-PUBLISHED-TTL:P3D
REFRESH-INTERVAL:P3D
CALSCALE:GREGORIAN
BEGIN:VEVENT
DTSTART:20170820T130000Z
DTEND:20170820T210000Z
X-MICROSOFT-CDO-ALLDAYEVENT:FALSE
SUMMARY:Tomato Daze
DESCRIPTION:Join us for our first Tomato Daze Weekend at Crane Creek Vineyards! August is the time to celebrate the fruit of the other vine so we will be showcasing our own farm grown tomatoes and other veggies in a variety of ways. Each day (Friday\, Saturday and Sunday) we will be offering free samples of several locally and regionally made tomato products. The menu for Friday Night Tapas and Acoustic Music will feature a menu of 4 tomato themed food items to choose from while listening to the vocal talents of Dom Weir. Saturday's Vine Keeper's Kitchen will spotlight our own CCV tomatoes and produce. Saturday Night our Sunset Vine Dining reservations only Dinner will demonstrate the culinary delicacies of tomatoes to a higher degree. So come out and celebrate the fruit of the other vine and all things tomato all weekend long!
X-ALT-DESC;FMTTYPE=text/html:Join us for our first Tomato Daze Weekend at Crane Creek Vineyards! August is the time to celebrate the fruit of the other vine so we will be showcasing our own farm grown tomatoes and other veggies in a variety of ways. Each day (Friday\, Saturday and Sunday) we will be offering free samples of several locally and regionally made tomato products. The menu for Friday Night Tapas and Acoustic Music will feature a menu of 4 tomato themed food items to choose from while listening to the vocal talents of Dom Weir. Saturday&#39\;s Vine Keeper&#39\;s Kitchen will spotlight our own CCV tomatoes and produce. Saturday Night our Sunset Vine Dining reservations only Dinner will demonstrate the culinary delicacies of tomatoes to a higher degree. So come out and celebrate the fruit of the other vine and all things tomato all weekend long!
LOCATION:Crane Creek Vineyards 916 Crane Creek Road Young Harris\, GA 30582
UID:e.256.75389
SEQUENCE:3
DTSTAMP:20260419T210205Z
URL:https://members.visitblairsvillega.com/events/details/tomato-daze-08-20-2017-75389
END:VEVENT

END:VCALENDAR
