BEGIN:VCALENDAR
VERSION:2.0
PRODID:-//ChamberMaster//Event Calendar 2.0//EN
METHOD:PUBLISH
X-PUBLISHED-TTL:P3D
REFRESH-INTERVAL:P3D
CALSCALE:GREGORIAN
BEGIN:VEVENT
DTSTART:20150815T150000Z
DTEND:20150815T220000Z
X-MICROSOFT-CDO-ALLDAYEVENT:FALSE
SUMMARY:Tomato Festival
DESCRIPTION:Join us at Crane Creek and help us celebrate the fruit of the other "vine"! Local food vendors will be here giving out samples of food. Bring the entire family out for a day of wine\, food and live music provided by Cornbread Ted and The Butterbeans. There will be a kids art tent as well as a fishing rodeo. Come try our wines and enjoy lunch prepared by Chef David and his Culinary Team! Tickets are $20 for 21 and over or $10 for under 21. Your ticket price includes your entry\, wine tasting\, souvenir glass\, lunch and admission to all of the festivities.
X-ALT-DESC;FMTTYPE=text/html:Join us at Crane Creek and help us celebrate the fruit of the other &quot\;vine&quot\;! Local food vendors will be here giving out samples of food. Bring the entire family out for a day of wine\, food and live music provided by Cornbread Ted and The Butterbeans. There will be a kids art tent as well as a fishing rodeo. Come try our wines and enjoy lunch prepared by Chef David and his Culinary Team! Tickets are $20 for 21 and over or $10 for under 21. Your ticket price includes your entry\, wine tasting\, souvenir glass\, lunch and admission to all of the festivities.
LOCATION:Crane Creek Vineyards 916 Crane Creek Road Young Harris\, GA 30582
UID:e.256.40375
SEQUENCE:3
DTSTAMP:20260423T134157Z
URL:https://members.visitblairsvillega.com/events/details/tomato-festival-08-15-2015-40375
END:VEVENT

END:VCALENDAR
