BEGIN:VCALENDAR
VERSION:2.0
PRODID:-//ChamberMaster//Event Calendar 2.0//EN
METHOD:PUBLISH
X-PUBLISHED-TTL:P3D
REFRESH-INTERVAL:P3D
CALSCALE:GREGORIAN
BEGIN:VEVENT
DTSTART:20160820T150000Z
DTEND:20160820T220000Z
X-MICROSOFT-CDO-ALLDAYEVENT:FALSE
SUMMARY:Tomato Festival
DESCRIPTION:Join us as we celebrate the fruit of the other vine and all things tomato! Live music all day by Cornbread Ted and the Butterbeans! Admission includes entrance to the festival\, souvenir glass to taste our selected five wines\, tours of the winery\, and a tomato themed lunch! Local artisans and vendors will be there all day as well!
X-ALT-DESC;FMTTYPE=text/html:Join us as we celebrate the fruit of the other vine and all things tomato! Live music all day by Cornbread Ted and the Butterbeans! Admission includes entrance to the festival\, souvenir glass to taste our selected five wines\, tours of the winery\, and a tomato themed lunch! Local artisans and vendors will be there all day as well!
LOCATION:Crane Creek Vineyards 916 Crane Creek Vineyards Young Harris\, GA 30582
UID:e.256.51257
SEQUENCE:3
DTSTAMP:20260420T163514Z
URL:https://members.visitblairsvillega.com/events/details/tomato-festival-08-20-2016-51257
END:VEVENT

END:VCALENDAR
