BEGIN:VCALENDAR
VERSION:2.0
PRODID:-//ChamberMaster//Event Calendar 2.0//EN
METHOD:PUBLISH
X-PUBLISHED-TTL:P3D
REFRESH-INTERVAL:P3D
CALSCALE:GREGORIAN
BEGIN:VEVENT
DTSTART:20140522T120000Z
DTEND:20140522T210000Z
X-MICROSOFT-CDO-ALLDAYEVENT:FALSE
SUMMARY:Tool Show & Customer Appreciation at Kaye's Auto Parts
DESCRIPTION:Kaye's Auto Parts\n\nTool Show & Customer Appreciation\n\nManufacturer Representation will be available for Product Knowledge and Technical assistance\n\nNAPA Auto Parts\n\nwww.NAPAonline.com\n\nBIG SAVINGS
X-ALT-DESC;FMTTYPE=text/html:<strong>Kaye&#39\;s Auto Parts<br />\nTool Show &amp\; Customer Appreciation<br />\nManufacturer Representation will be available for Product Knowledge and Technical assistance<br />\nNAPA Auto Parts<br />\nwww.NAPAonline.com<br />\nBIG SAVINGS</strong>
LOCATION:Kaye's Auto Parts 141 Young Harris Street Blairsville\, GA
UID:e.256.24433
SEQUENCE:3
DTSTAMP:20260424T122434Z
URL:https://members.visitblairsvillega.com/events/details/tool-show-customer-appreciation-at-kaye-s-auto-parts-05-22-2014-24433
END:VEVENT

END:VCALENDAR
