BEGIN:VCALENDAR
VERSION:2.0
PRODID:-//ChamberMaster//Event Calendar 2.0//EN
METHOD:PUBLISH
X-PUBLISHED-TTL:P3D
REFRESH-INTERVAL:P3D
CALSCALE:GREGORIAN
BEGIN:VEVENT
DTSTART:20140819T170000Z
DTEND:20140819T183000Z
X-MICROSOFT-CDO-ALLDAYEVENT:FALSE
SUMMARY:Tools for Caregivers
DESCRIPTION:Tools for the caregiver to survive the caregiving experience. The class will help you reduce stress\, improve self-confidence\, communicate effectively with others\, take care of yourself and balance your life\, reduce guilt/anger/depression\, and deal with difficult feelings and challenging situations.
X-ALT-DESC;FMTTYPE=text/html:Tools for the caregiver to survive the caregiving experience. The class will help you reduce stress\, improve self-confidence\, communicate effectively with others\, take care of yourself and balance your life\, reduce guilt/anger/depression\, and deal with difficult feelings and challenging situations.
LOCATION:UGH 2nd Floor Classroom
UID:e.256.26001
SEQUENCE:3
DTSTAMP:20260424T073549Z
URL:https://members.visitblairsvillega.com/events/details/tools-for-caregivers-08-19-2014-26001
END:VEVENT

END:VCALENDAR
