BEGIN:VCALENDAR
VERSION:2.0
PRODID:-//ChamberMaster//Event Calendar 2.0//EN
METHOD:PUBLISH
X-PUBLISHED-TTL:P3D
REFRESH-INTERVAL:P3D
CALSCALE:GREGORIAN
BEGIN:VEVENT
DTSTART:20140826T170000Z
DTEND:20140826T183000Z
X-MICROSOFT-CDO-ALLDAYEVENT:FALSE
SUMMARY:Tools for Caregivers
DESCRIPTION:It's all about taking care of you - the Caregiver! This course will help reduce stress\, improve self-confidence\, communicate effectively with others\, take care of yourself and balance your life\, reduce guilt/anger/depression\, and deal with difficult feelings and challenging situations
X-ALT-DESC;FMTTYPE=text/html:It&#39\;s all about taking care of you - the Caregiver! This course will help reduce stress\, improve self-confidence\, communicate effectively with others\, take care of yourself and balance your life\, reduce guilt/anger/depression\, and deal with difficult feelings and challenging situations
LOCATION:UGH 2nd Floor Classroom
UID:e.256.25589
SEQUENCE:3
DTSTAMP:20260424T073549Z
URL:https://members.visitblairsvillega.com/events/details/tools-for-caregivers-08-26-2014-25589
END:VEVENT

END:VCALENDAR
