BEGIN:VCALENDAR
VERSION:2.0
PRODID:-//ChamberMaster//Event Calendar 2.0//EN
METHOD:PUBLISH
X-PUBLISHED-TTL:P3D
REFRESH-INTERVAL:P3D
CALSCALE:GREGORIAN
BEGIN:VEVENT
DTSTART;VALUE=DATE:20170821
DTEND;VALUE=DATE:20170822
TRANSP:TRANSPARENT
X-MICROSOFT-CDO-ALLDAYEVENT:TRUE
SUMMARY:Total Solar Eclipse
DESCRIPTION:On Monday\, August 21st\, a once in a lifetime experience will occur in the US. For the first time in 99 years a Total Solar Eclipse will be crossing a specific path from the Pacific to the Atlantic and it will feel like someone just turned off the sun in the middle of the day.  Fortunately for us\, Blairsville is in the path and we will experience 1 minute and 59 seconds of totality! CLICK HERE to learn more about the Total Solar Eclipse.
X-ALT-DESC;FMTTYPE=text/html:On Monday\, August 21<sup>st</sup>\, a once in a lifetime experience will occur in the US. For the first time in 99 years a Total Solar Eclipse will be crossing a specific path from the Pacific to the Atlantic and it will feel like someone just turned off the sun in the middle of the day.&nbsp\; Fortunately for us\, Blairsville is in the path and we will experience 1 minute and 59 seconds of totality! <a href="http://www.eclipse2017.org/eclipse2017_main.htm">CLICK HERE to learn more about the Total Solar Eclipse</a><a href="http://www.visitblairsvillega.com/explore-blairsville/solar-eclipse-2017/">.</a>
LOCATION:Blairsville\, Ga
UID:e.256.66547
SEQUENCE:3
DTSTAMP:20260419T210114Z
URL:https://members.visitblairsvillega.com/events/details/total-solar-eclipse-66547
END:VEVENT

END:VCALENDAR
