BEGIN:VCALENDAR
VERSION:2.0
PRODID:-//ChamberMaster//Event Calendar 2.0//EN
METHOD:PUBLISH
X-PUBLISHED-TTL:P3D
REFRESH-INTERVAL:P3D
CALSCALE:GREGORIAN
BEGIN:VEVENT
DTSTART:20170324T130000Z
DTEND:20170324T140000Z
X-MICROSOFT-CDO-ALLDAYEVENT:FALSE
SUMMARY:Total Solar Eclipse Planning
DESCRIPTION:A planning committee will meet on Friday\, March 24th at 9am in the Union County Community Center. All who are interested are welcome to join. We welcome your ideas and input. We will be voting on a logo\, discussing t-shirts\, events\, and distribution of eclipse glasses. \n\n\n\nOn Monday\, August 21st\, a once in a lifetime experience will occur in the US. For the first time in 99 years a Total Solar Eclipse will be crossing a specific path from the Pacific to the Atlantic and it will feel like someone just turned off the sun in the middle of the day.  Fortunately for us\, Blairsville is in the path and we will experience 1 minute and 59 seconds of totality! CLICK HERE to learn more about the Total Solar Eclipse.
X-ALT-DESC;FMTTYPE=text/html:A planning committee will meet on Friday\, March 24<sup>th</sup> at 9am in the Union County Community Center. All who are interested are welcome to join. We welcome your ideas and input. We will be voting on a logo\, discussing t-shirts\, events\, and distribution of eclipse glasses.&nbsp\;<br />\n<br />\nOn Monday\, August 21<sup>st</sup>\, a once in a lifetime experience will occur in the US. For the first time in 99 years a Total Solar Eclipse will be crossing a specific path from the Pacific to the Atlantic and it will feel like someone just turned off the sun in the middle of the day. &nbsp\;Fortunately for us\, Blairsville is in the path and we will experience 1 minute and 59 seconds of totality! <a href="http://www.eclipse2017.org/eclipse2017_main.htm">CLICK HERE to learn more about the Total Solar Eclipse</a>.
LOCATION:Union County Community Center
UID:e.256.69248
SEQUENCE:3
DTSTAMP:20260420T055503Z
URL:https://members.visitblairsvillega.com/events/details/total-solar-eclipse-planning-69248
END:VEVENT

END:VCALENDAR
