BEGIN:VCALENDAR
VERSION:2.0
PRODID:-//ChamberMaster//Event Calendar 2.0//EN
METHOD:PUBLISH
X-PUBLISHED-TTL:P3D
REFRESH-INTERVAL:P3D
CALSCALE:GREGORIAN
BEGIN:VEVENT
DTSTART:20131212T140000Z
DTEND:20131212T140000Z
X-MICROSOFT-CDO-ALLDAYEVENT:FALSE
SUMMARY:Tour of Trees-
DESCRIPTION:You are invited to the annual\n\nTour of Trees\n\nSaturday\, December 2 -\n\nSaturday\, December 28 \n\nUnion County Community Center\n\n\n\n \nEnjoy beautifully decorated wreaths and trees by local businesses
X-ALT-DESC;FMTTYPE=text/html:<div style="text-align: center\;"><em><strong><span style="font-size: 14px\;"><span style="color: rgb(255\, 0\, 0)\;"><span style="font-family: courier new\;">You are invited to the annual<br />\nTour of Trees<br />\nSaturday\, December 2 -<br />\nSaturday\, December 28&nbsp\;<br />\nUnion County Community Center</span></span></span></strong></em><br />\n<br />\n&nbsp\;</div>\n<em><strong><span style="font-size: 14px\;"><span style="color: rgb(255\, 0\, 0)\;"><span style="font-family: courier new\;">Enjoy beautifully decorated wreaths and trees by local businesses</span></span></span></strong></em>
LOCATION:Union County Community Center 129 Union County Rec Rd Blairsville\, GA
UID:e.256.20398
SEQUENCE:3
DTSTAMP:20260424T211524Z
URL:https://members.visitblairsvillega.com/events/details/tour-of-trees-12-12-2013-20398
END:VEVENT

END:VCALENDAR
