BEGIN:VCALENDAR
VERSION:2.0
PRODID:-//ChamberMaster//Event Calendar 2.0//EN
METHOD:PUBLISH
X-PUBLISHED-TTL:P3D
REFRESH-INTERVAL:P3D
CALSCALE:GREGORIAN
BEGIN:VEVENT
DTSTART:20141227T140000Z
DTEND:20141227T220000Z
X-MICROSOFT-CDO-ALLDAYEVENT:FALSE
SUMMARY:Tour of Trees-
DESCRIPTION:Over 30 beautifully decorated trees and wreaths on display through the Community Center.
X-ALT-DESC;FMTTYPE=text/html:Over 30 beautifully decorated trees and wreaths on display through the Community Center.
LOCATION:Union County Community Center 129 Union County Rec Rd Blairsville\, GA
UID:e.256.22012
SEQUENCE:3
DTSTAMP:20260424T020127Z
URL:https://members.visitblairsvillega.com/events/details/tour-of-trees-12-27-2014-22012
END:VEVENT

END:VCALENDAR
