BEGIN:VCALENDAR
VERSION:2.0
PRODID:-//ChamberMaster//Event Calendar 2.0//EN
METHOD:PUBLISH
X-PUBLISHED-TTL:P3D
REFRESH-INTERVAL:P3D
CALSCALE:GREGORIAN
BEGIN:VEVENT
DTSTART:20161231T140000Z
DTEND:20161231T220000Z
X-MICROSOFT-CDO-ALLDAYEVENT:FALSE
SUMMARY:Tour of Trees-
DESCRIPTION:Over 30 beautifully decorated trees and wreaths on display throughout the Community Center.
X-ALT-DESC;FMTTYPE=text/html:Over 30 beautifully decorated trees and wreaths on display throughout the Community Center.
LOCATION:Union County Community Center 129 Union County Rec Rd Blairsville\, GA
UID:e.256.47680
SEQUENCE:3
DTSTAMP:20260420T094006Z
URL:https://members.visitblairsvillega.com/events/details/tour-of-trees-12-31-2016-47680
END:VEVENT

END:VCALENDAR
