BEGIN:VCALENDAR
VERSION:2.0
PRODID:-//ChamberMaster//Event Calendar 2.0//EN
METHOD:PUBLISH
X-PUBLISHED-TTL:P3D
REFRESH-INTERVAL:P3D
CALSCALE:GREGORIAN
BEGIN:VEVENT
DTSTART:20141123T180000Z
DTEND:20141123T210000Z
X-MICROSOFT-CDO-ALLDAYEVENT:FALSE
SUMMARY:Tournament 'Strike' Out Against Hunger
DESCRIPTION:Join us for our TOURNAMENT 'STRIKE' Out Against Hunger League bowlers you wont want to miss out on this tournament Guaranteed Prize money awarded!!! STOP BY and SIGN UP to Reserve your spot now! Call: 706-745-4444 for more information Choose the time you would like to bowl. 1pm or 4pm
X-ALT-DESC;FMTTYPE=text/html:Join us for our TOURNAMENT &#39\;STRIKE&#39\; Out Against Hunger League bowlers you wont want to miss out on this tournament Guaranteed Prize money awarded!!! STOP BY and SIGN UP to Reserve your spot now! Call: 706-745-4444 for more information Choose the time you would like to bowl. 1pm or 4pm
LOCATION:Galaxy Bowling 104 Backyard Lane Blairsville\, GA
UID:e.256.27986
SEQUENCE:3
DTSTAMP:20260424T033653Z
URL:https://members.visitblairsvillega.com/events/details/tournament-strike-out-against-hunger-11-23-2014-27986
END:VEVENT

END:VCALENDAR
