BEGIN:VCALENDAR
VERSION:2.0
PRODID:-//ChamberMaster//Event Calendar 2.0//EN
METHOD:PUBLISH
X-PUBLISHED-TTL:P3D
REFRESH-INTERVAL:P3D
CALSCALE:GREGORIAN
BEGIN:VEVENT
DTSTART:20140829T170000Z
DTEND:20140829T180000Z
X-MICROSOFT-CDO-ALLDAYEVENT:FALSE
SUMMARY:Town Hall Meeting at Young Harris
DESCRIPTION:U.S. Senator Johnny Isakson\, R-Ga.\, will be holding a town hall meeting in Young Harris. Isakson will give a brief update from Washington\, D.C.\, and will spend the remainder of the meeting taking questions from constituents. The public is invited to attend.
X-ALT-DESC;FMTTYPE=text/html:<span style="font-size: 12pt\;"><span style="font-family: garamond\,serif\;"><span style="color: black\;">U.S. Senator Johnny Isakson\, R-Ga.\,&nbsp\;will be&nbsp\;holding a town hall meeting in Young Harris. Isakson will give a brief update from Washington\, D.C.\, and will spend the remainder of the meeting taking questions from constituents.&nbsp\;The public is invited to attend.</span></span></span><br />\n&nbsp\;
LOCATION:Young Harris College Recreation Center 1 College St. Young Harris\, Ga. 30582
UID:e.256.25586
SEQUENCE:3
DTSTAMP:20260424T092100Z
URL:https://members.visitblairsvillega.com/events/details/town-hall-meeting-at-young-harris-08-29-2014-25586
END:VEVENT

END:VCALENDAR
