BEGIN:VCALENDAR
VERSION:2.0
PRODID:-//ChamberMaster//Event Calendar 2.0//EN
METHOD:PUBLISH
X-PUBLISHED-TTL:P3D
REFRESH-INTERVAL:P3D
CALSCALE:GREGORIAN
BEGIN:VEVENT
DTSTART:20150924T200000Z
DTEND:20150924T230000Z
X-MICROSOFT-CDO-ALLDAYEVENT:FALSE
SUMMARY:Towns County Business Showcase
DESCRIPTION:Huge Community Family Oriented Event. Over 80 Local and Area Businesses and Vendors. Music\, Food for Sale\, Show Specials
X-ALT-DESC;FMTTYPE=text/html:Huge Community Family Oriented Event. Over 80 Local and Area Businesses and Vendors. Music\, Food for Sale\, Show Specials
LOCATION:Towns County Recreation & Conference Center\, 150 Foster Road\, Young Harris\, GA
UID:e.256.44229
SEQUENCE:3
DTSTAMP:20260423T134116Z
URL:https://members.visitblairsvillega.com/events/details/towns-county-business-showcase-09-24-2015-44229
END:VEVENT

END:VCALENDAR
