BEGIN:VCALENDAR
VERSION:2.0
PRODID:-//ChamberMaster//Event Calendar 2.0//EN
METHOD:PUBLISH
X-PUBLISHED-TTL:P3D
REFRESH-INTERVAL:P3D
CALSCALE:GREGORIAN
BEGIN:VEVENT
DTSTART:20141206T150000Z
DTEND:20141206T220000Z
X-MICROSOFT-CDO-ALLDAYEVENT:FALSE
SUMMARY:Towns County Mountain Country Christmas Tour of Homes
DESCRIPTION:Mountain Country Christmas Tour of Homes\n\nHiawassee & Young Harris\n\nDecember 6\, 2014 10am - 5pm\n\n$10 in Advance $15 Day of Tour\n\n\n\nSponsored by Towns County Chamber of Commerce\n\n1411 Jack Dayton Circle Young Harris\, GA\n\n706-896-4966\n\nwww.mountaintopga.com\n\nA portion of the proceeds to Towns County Family Connection
X-ALT-DESC;FMTTYPE=text/html:Mountain Country Christmas Tour of Homes<br />\nHiawassee &amp\; Young Harris<br />\nDecember 6\, 2014 10am - 5pm<br />\n$10 in Advance $15 Day of Tour<br />\n<br />\nSponsored by Towns County Chamber of Commerce<br />\n1411 Jack Dayton Circle Young Harris\, GA<br />\n706-896-4966<br />\nwww.mountaintopga.com<br />\n<span style="font-family: comic sans ms\;">A portion of the proceeds to Towns County Family Connection</span>
LOCATION:Homes in Hiawassee & Young Harris\, GA
UID:e.256.27775
SEQUENCE:3
DTSTAMP:20260424T020756Z
URL:https://members.visitblairsvillega.com/events/details/towns-county-mountain-country-christmas-tour-of-homes-12-06-2014-27775
END:VEVENT

END:VCALENDAR
