BEGIN:VCALENDAR
VERSION:2.0
PRODID:-//ChamberMaster//Event Calendar 2.0//EN
METHOD:PUBLISH
X-PUBLISHED-TTL:P3D
REFRESH-INTERVAL:P3D
CALSCALE:GREGORIAN
BEGIN:VEVENT
DTSTART:20140118T150000Z
DTEND:20140118T170000Z
X-MICROSOFT-CDO-ALLDAYEVENT:FALSE
SUMMARY:Towns County Public Library Ground-Breaking
DESCRIPTION:Please join us for the ground-breaking for Towns County Public Library Renovation & Addition Project
X-ALT-DESC;FMTTYPE=text/html:Please join us for the ground-breaking for Towns County Public Library Renovation &amp\; Addition Project
LOCATION:Towns County Courthouse 48 River Street Hiawassee\, GA
UID:e.256.22017
SEQUENCE:3
DTSTAMP:20260424T180440Z
URL:https://members.visitblairsvillega.com/events/details/towns-county-public-library-ground-breaking-01-18-2014-22017
END:VEVENT

END:VCALENDAR
