BEGIN:VCALENDAR
VERSION:2.0
PRODID:-//ChamberMaster//Event Calendar 2.0//EN
METHOD:PUBLISH
X-PUBLISHED-TTL:P3D
REFRESH-INTERVAL:P3D
CALSCALE:GREGORIAN
BEGIN:VEVENT
DTSTART:20141009T203000Z
DTEND:20141009T220000Z
X-MICROSOFT-CDO-ALLDAYEVENT:FALSE
SUMMARY:Towns\, Union Master Gardener Association
DESCRIPTION:Accent on Gourds - Millie Bayne became interested in gourds after seeing what could be done with them at the Cherokee gourd festival\, probably in June 2007. She has participated in a couple of juried shows where she has won some ribbons for some of the pieces. Before retiring to this area she had never heard of gourd art. They are an easy medium to work with acting similar to wood in that you can carve\, burn\, paint\, etc.\, etc.\, on them. This meeting is OPEN to Friends of Master Gardeners and the community.
X-ALT-DESC;FMTTYPE=text/html:Accent on Gourds - Millie Bayne became interested in gourds after seeing what could be done with them at the Cherokee gourd festival\, probably in June 2007. She has participated in a couple of juried shows where she has won some ribbons for some of the pieces. Before retiring to this area she had never heard of gourd art. They are an easy medium to work with acting similar to wood in that you can carve\, burn\, paint\, etc.\, etc.\, on them. This meeting is OPEN to Friends of Master Gardeners and the community.
LOCATION:Sharp Memorial United Methodist Church Young Harris\, GA
UID:e.256.27476
SEQUENCE:3
DTSTAMP:20260424T061542Z
URL:https://members.visitblairsvillega.com/events/details/towns-union-master-gardener-association-10-09-2014-27476
END:VEVENT

END:VCALENDAR
