BEGIN:VCALENDAR
VERSION:2.0
PRODID:-//ChamberMaster//Event Calendar 2.0//EN
METHOD:PUBLISH
X-PUBLISHED-TTL:P3D
REFRESH-INTERVAL:P3D
CALSCALE:GREGORIAN
BEGIN:VEVENT
DTSTART:20151031T120000Z
DTEND:20151031T160000Z
X-MICROSOFT-CDO-ALLDAYEVENT:FALSE
SUMMARY:Towns-Union Master Gardener Plant Sale
DESCRIPTION:Master Gardeners\, UGA Extension Volunteers\, are dividing their personal plants and will hold a plant sale on October 24th. Plants not sold on the 24th will be sold on the 31st. Now is the best time to plant perennials so they will establish themselves over the winter. Bulbs also need to overwinter for the best blooms next year. Also\, for a small donation\, win a handmade wooden decorative wheelbarrow filled with gardening supplies. Pansies should also be available for sale. Come early!! Bring boxes to hold your purchases.
X-ALT-DESC;FMTTYPE=text/html:Master Gardeners\, UGA Extension Volunteers\, are dividing their personal plants and will hold a plant sale on October 24th. Plants not sold on the 24th will be sold on the 31st. Now is the best time to plant perennials so they will establish themselves over the winter. Bulbs also need to overwinter for the best blooms next year. Also\, for a small donation\, win a handmade wooden decorative wheelbarrow filled with gardening supplies. Pansies should also be available for sale. Come early!! Bring boxes to hold your purchases.
LOCATION:Union County Farmers Market 148 Old Smokey Road Blairsville\, GA
UID:e.256.44209
SEQUENCE:3
DTSTAMP:20260423T103337Z
URL:https://members.visitblairsvillega.com/events/details/towns-union-master-gardener-plant-sale-10-31-2015-44209
END:VEVENT

END:VCALENDAR
