BEGIN:VCALENDAR
VERSION:2.0
PRODID:-//ChamberMaster//Event Calendar 2.0//EN
METHOD:PUBLISH
X-PUBLISHED-TTL:P3D
REFRESH-INTERVAL:P3D
CALSCALE:GREGORIAN
BEGIN:VEVENT
DTSTART:20170902T110000Z
DTEND:20170902T170000Z
X-MICROSOFT-CDO-ALLDAYEVENT:FALSE
SUMMARY:Tractor Show & Parade - Union County Farmers Market
DESCRIPTION:Salute to Farmers/ Tractor Parade.  Come join us Labor Day Weekend for some fun:  Union County Farm Bureau along with Union County Farmer's Market will be having our 8th Annual Tractor Show and Parade on Saturday\, September 2\, 2017 beginning at 10 am at the Union County Farmers Market in Blairsville\, GA. Bring any type if tractor you have an enter it in our show and parade.  The tractors can be old or new\, used or antique\, everything farm related is welcome to show and be in the parade or remain at the Farmer's Market for the public to view.   Come out and experience our awesome market.  Rain or Shine
X-ALT-DESC;FMTTYPE=text/html:Salute to Farmers/ Tractor Parade. &nbsp\;Come join us Labor Day Weekend for some fun: &nbsp\;Union County Farm Bureau along with Union County Farmer&#39\;s Market will be having our 8th Annual Tractor Show and Parade on Saturday\, September 2\, 2017 beginning at 10 am at the Union County Farmers Market in Blairsville\, GA. Bring any type if tractor you have an enter it in our show and parade. &nbsp\;The tractors can be old or new\, used or antique\, everything farm related is welcome to show and be in the parade or remain at the Farmer&#39\;s Market for the public to view. &nbsp\; Come out and experience our awesome market.&nbsp\; <strong>Rain or Shine</strong>
LOCATION:Old Smokey Road\, Blairsville GA
UID:e.256.73080
SEQUENCE:3
DTSTAMP:20260419T193129Z
URL:https://members.visitblairsvillega.com/events/details/tractor-show-parade-union-county-farmers-market-73080
END:VEVENT

END:VCALENDAR
