BEGIN:VCALENDAR
VERSION:2.0
PRODID:-//ChamberMaster//Event Calendar 2.0//EN
METHOD:PUBLISH
X-PUBLISHED-TTL:P3D
REFRESH-INTERVAL:P3D
CALSCALE:GREGORIAN
BEGIN:VEVENT
DTSTART:20140912T120000Z
DTEND:20140912T170000Z
X-MICROSOFT-CDO-ALLDAYEVENT:FALSE
SUMMARY:Trash and Treasures at Union County Farmers Market
DESCRIPTION:Trash and Treasures open on Thursday & Friday 8am - 1pm.\n\nNo Pets allowed on the Market property.
X-ALT-DESC;FMTTYPE=text/html:Trash and Treasures open on Thursday &amp\; Friday 8am - 1pm.<br />\n<strong>No Pets allowed on the Market property.</strong>
LOCATION:Union County Farmers Market 148 Old Smokey Rd (Off Weaver Rd) Blairsville\, GA
UID:e.256.24145
SEQUENCE:3
DTSTAMP:20260424T074328Z
URL:https://members.visitblairsvillega.com/events/details/trash-and-treasures-at-union-county-farmers-market-09-12-2014-24145
END:VEVENT

END:VCALENDAR
