BEGIN:VCALENDAR
VERSION:2.0
PRODID:-//ChamberMaster//Event Calendar 2.0//EN
METHOD:PUBLISH
X-PUBLISHED-TTL:P3D
REFRESH-INTERVAL:P3D
CALSCALE:GREGORIAN
BEGIN:VEVENT
DTSTART:20170505T113000Z
DTEND:20170505T170000Z
X-MICROSOFT-CDO-ALLDAYEVENT:FALSE
SUMMARY:Trash and Treasures at Union County Farmers Market
DESCRIPTION:Trash and Treasures at Union County Farmers Market\n\nEvery Friday from 7:30am-1pm
X-ALT-DESC;FMTTYPE=text/html:Trash and Treasures at Union County Farmers Market<br />\nEvery Friday from 7:30am-1pm
LOCATION:Union County Farmers Market 148 Old Smokey Rd (Off Weaver Rd) Blairsville\, GA
UID:e.256.73036
SEQUENCE:3
DTSTAMP:20260420T010552Z
URL:https://members.visitblairsvillega.com/events/details/trash-and-treasures-at-union-county-farmers-market-73036
END:VEVENT

END:VCALENDAR
