BEGIN:VCALENDAR
VERSION:2.0
PRODID:-//ChamberMaster//Event Calendar 2.0//EN
METHOD:PUBLISH
X-PUBLISHED-TTL:P3D
REFRESH-INTERVAL:P3D
CALSCALE:GREGORIAN
BEGIN:VEVENT
DTSTART:20161007T113000Z
DTEND:20161007T180000Z
X-MICROSOFT-CDO-ALLDAYEVENT:FALSE
SUMMARY:Trash & Treasure Sale
DESCRIPTION:Come out to the Union County Farmers Market to see all the Trash and Treasures that the community has for sale.  New & used items\, crafts\, tools\, clothes\, recreation equipment\, toys\, yard art\, appliances\, and odds and ends. Buy or sell......Rain or shine!!!!
X-ALT-DESC;FMTTYPE=text/html:Come out to the Union County Farmers Market to see all the Trash and Treasures that the community has for sale.&nbsp\; New &amp\; used items\, crafts\, tools\, clothes\, recreation equipment\, toys\, yard art\, appliances\, and odds and ends. <strong>Buy or sell......Rain or shine!!!!</strong>
LOCATION:Union County Farmers Market\, Blairsville\, GA
UID:e.256.51089
SEQUENCE:3
DTSTAMP:20260420T131024Z
URL:https://members.visitblairsvillega.com/events/details/trash-treasure-sale-10-07-2016-51089
END:VEVENT

END:VCALENDAR
