BEGIN:VCALENDAR
VERSION:2.0
PRODID:-//ChamberMaster//Event Calendar 2.0//EN
METHOD:PUBLISH
X-PUBLISHED-TTL:P3D
REFRESH-INTERVAL:P3D
CALSCALE:GREGORIAN
BEGIN:VEVENT
DTSTART:20170225T140000Z
DTEND:20170225T200000Z
X-MICROSOFT-CDO-ALLDAYEVENT:FALSE
SUMMARY:Trash/Treasure Winter Shopping - Lions Club
DESCRIPTION:Trash/Treasure Winter Shopping is sponsored by Union County Lions Club.  They will have 40 plus vendors participating with all kinds of items.  The Lions kitchen will have Chili and Hot Dogs for sale.  For a $1.00 donation\, per person\, you can do Early Bird shopping from 8:00 to 9:00.  Admission is free
X-ALT-DESC;FMTTYPE=text/html:Trash/Treasure Winter Shopping is sponsored by Union County Lions Club. &nbsp\;They will have 40 plus vendors participating with all kinds of items. &nbsp\;The Lions kitchen will have Chili and Hot Dogs for sale. &nbsp\;For a $1.00 donation\, per person\, you can do Early Bird shopping from 8:00 to 9:00. &nbsp\;Admission is free
LOCATION:Union County Civic Center Wellborn Street Blairsville GA 30512
UID:e.256.67484
SEQUENCE:3
DTSTAMP:20260420T061353Z
URL:https://members.visitblairsvillega.com/events/details/trash-treasure-winter-shopping-lions-club-67484
END:VEVENT

END:VCALENDAR
