BEGIN:VCALENDAR
VERSION:2.0
PRODID:-//ChamberMaster//Event Calendar 2.0//EN
METHOD:PUBLISH
X-PUBLISHED-TTL:P3D
REFRESH-INTERVAL:P3D
CALSCALE:GREGORIAN
BEGIN:VEVENT
DTSTART:20151002T233000Z
DTEND:20151003T023000Z
X-MICROSOFT-CDO-ALLDAYEVENT:FALSE
SUMMARY:Travis Tritt
DESCRIPTION:The highly abbreviated Tritt timeline has the young Georgian incorporating lifelong influences in Southern Rock\, blues and gospel into his country during a honky-tonk apprenticeship that led him to Warner Bros. His 1990 debut Country Club and its succession of hits put him in the vanguard of the genre's early '90s boom. At the same time\, his conspicuous lack of a cowboy hat and musical aggressiveness set him apart. The next eight albums and scores of hit singles led him to amass more than 25 million in career album sales\, two Grammys\, three CMA Awards and a devoted fan base that filled venues coast-to-coast.
X-ALT-DESC;FMTTYPE=text/html:The highly abbreviated Tritt timeline has the young Georgian incorporating lifelong influences in Southern Rock\, blues and gospel into his country during a honky-tonk apprenticeship that led him to Warner Bros. His 1990 debut Country Club and its succession of hits put him in the vanguard of the genre&#39\;s early &#39\;90s boom. At the same time\, his conspicuous lack of a cowboy hat and musical aggressiveness set him apart. The next eight albums and scores of hit singles led him to amass more than 25 million in career album sales\, two Grammys\, three CMA Awards and a devoted fan base that filled venues coast-to-coast.
LOCATION:Smoky Mountain Center for the Performing Arts 1028 Georgia Road Franklin\, NC 28734
UID:e.256.41396
SEQUENCE:3
DTSTAMP:20260423T102437Z
URL:https://members.visitblairsvillega.com/events/details/travis-tritt-10-02-2015-41396
END:VEVENT

END:VCALENDAR
