BEGIN:VCALENDAR
VERSION:2.0
PRODID:-//ChamberMaster//Event Calendar 2.0//EN
METHOD:PUBLISH
X-PUBLISHED-TTL:P3D
REFRESH-INTERVAL:P3D
CALSCALE:GREGORIAN
BEGIN:VEVENT
DTSTART:20160318T233000Z
DTEND:20160319T013000Z
X-MICROSOFT-CDO-ALLDAYEVENT:FALSE
SUMMARY:Treasure Island\, the Classic Adventure
DESCRIPTION:Hold on tight and set sail for a live stage production based on Robert Louis Stevenson's classic tale! Young Jim has stumbled upon a map that could lead to an island full of buried treasure. After securing passage on a ship\, Jim finds himself surrounded by a nasty bunch of pirates vying for the treasure themselves\, lead by the notorious Long John Silver. This high-seas adventure will excite\, fright and give everyone the urge to hop aboard an ocean vessel ready for the trip of a lifetime! Approximately one hour in length and suitable for all ages. Presented by the Overlook Theatre Company
X-ALT-DESC;FMTTYPE=text/html:Hold on tight and set sail for a live stage production based on Robert Louis Stevenson&#39\;s classic tale! Young Jim has stumbled upon a map that could lead to an island full of buried treasure. After securing passage on a ship\, Jim finds himself surrounded by a nasty bunch of pirates vying for the treasure themselves\, lead by the notorious Long John Silver. This high-seas adventure will excite\, fright and give everyone the urge to hop aboard an ocean vessel ready for the trip of a lifetime! Approximately one hour in length and suitable for all ages. Presented by the Overlook Theatre Company
LOCATION:Smoky Mountain Center for the Performing Arts 1028 Georgia Road Franklin\, NC 28734
UID:e.256.48132
SEQUENCE:3
DTSTAMP:20260421T040252Z
URL:https://members.visitblairsvillega.com/events/details/treasure-island-the-classic-adventure-03-18-2016-48132
END:VEVENT

END:VCALENDAR
