BEGIN:VCALENDAR
VERSION:2.0
PRODID:-//ChamberMaster//Event Calendar 2.0//EN
METHOD:PUBLISH
X-PUBLISHED-TTL:P3D
REFRESH-INTERVAL:P3D
CALSCALE:GREGORIAN
BEGIN:VEVENT
DTSTART:20140305T163000Z
DTEND:20140305T183000Z
X-MICROSOFT-CDO-ALLDAYEVENT:FALSE
SUMMARY:Tri-Country Women's Connection Luncheon & Program
DESCRIPTION:The Tri-County Women's Connection luncheon and program is next Wednesday\, March 5th at Monet's\, 130 Blue Ridge Street in Blairsville.  The charge remains the same $11.00 inclusive and cash or check will be accepted.  Please have correct change if possible. Our Special Feature will be Arthur Millican of Sleepy Hollow Enterprises in Blairsville.  Arthur had worked for Disney and is still a consultant as an artistic creator. Our Music will be provided by Julie McPherson of Blairsville and sure to lift our spirits. Our Guest Speaker will be Sheila Slocum of Peachtree City who will share her life with us "One Step Forward and Two Steps Back."  We are certain to find her story fascinating and heart warming. Please plan to invite a guest or two for a great time of good food\, fabulous fellowship and a spirit lifting event. If the Union County schools are closed due to inclement weather\, our luncheons are canceled for our safety. We may want to wear our green for St. Patty's Day as I believe we are all Irish then!
X-ALT-DESC;FMTTYPE=text/html:The Tri-County Women&#39\;s Connection luncheon and program is next Wednesday\, March 5th at Monet&#39\;s\, 130 Blue Ridge Street in Blairsville. &nbsp\;The charge remains the same $11.00 inclusive and cash or check will be accepted. &nbsp\;Please have correct change if possible. Our Special Feature will be Arthur Millican of Sleepy Hollow Enterprises in Blairsville. &nbsp\;Arthur had worked for Disney and is still a consultant as an artistic creator. Our Music will be provided by Julie McPherson of Blairsville and sure to lift our spirits. Our Guest Speaker will be Sheila Slocum of Peachtree City who will share her life with us &quot\;One Step Forward and Two Steps Back.&quot\; &nbsp\;We are certain to find her story fascinating and heart warming. Please plan to invite a guest or two for a great time of good food\, fabulous fellowship and a spirit lifting event. If the Union County schools are closed due to inclement weather\, our luncheons are canceled for our safety. We may want to wear our green for St. Patty&#39\;s Day as I believe we are all Irish then!
LOCATION:Monet's\, 130 Blue Ridge Street\, Blairsville
UID:e.256.23234
SEQUENCE:3
DTSTAMP:20260424T164629Z
URL:https://members.visitblairsvillega.com/events/details/tri-country-women-s-connection-luncheon-program-03-05-2014-23234
END:VEVENT

END:VCALENDAR
