BEGIN:VCALENDAR
VERSION:2.0
PRODID:-//ChamberMaster//Event Calendar 2.0//EN
METHOD:PUBLISH
X-PUBLISHED-TTL:P3D
REFRESH-INTERVAL:P3D
CALSCALE:GREGORIAN
BEGIN:VEVENT
DTSTART:20171227T153000Z
DTEND:20171227T170000Z
X-MICROSOFT-CDO-ALLDAYEVENT:FALSE
SUMMARY:Tri-County Women's Connection - December Prayer Meeting
DESCRIPTION:Tri-County Women's Connection: December Prayer Meeting One song can change a moment\; one idea can change a world\; one step can start a journey\; but PRAYER can change the impossible. It is always a privilege to pray together! Tri-County Women's Connection invites the women in our communities to join together in a special and sacred time of prayer. Find that place where you are welcomed as you are. In a comfortable and warm setting\, we will be encouraged through inspirational thought to pray (with no pressure to pray audibly) for America and its leaders\, our communities and families\, our teachers and pastors\, those who do not yet know Christ\, Stonecroft\, outreach ministries and more. We are praying that you will join our Prayer Connection and share with us the power of prayer on Wednesday\, December 27th from 10:30 a.m. until noon at Healing Hands Community Clinic\, 64 Brackett's Way\, Suite 3\, Blairsville\, Georgia 30512\, Phone: 706-994-6768. Coffee and light snacks will be provided. No reservation needed. Tri-County Women's Connection and Prayer Connection are both affiliated with Stonecroft.org. May God's love and grace give you confidence to embrace opportunities\, new dreams\, happiness on your path\, and an abundance of love. Isaiah 9:6 "For to us a child is born\, to us a son is given\, and the government shall be upon his shoulder\, and his name shall be called Wonderful Counselor\, Mighty God\, Everlasting Father\, Prince of Peace." The meeting will NOT be held If Union County Schools are closed due to inclement weather.
X-ALT-DESC;FMTTYPE=text/html:Tri-County Women&rsquo\;s Connection: December Prayer Meeting One song can change a moment\; one idea can change a world\; one step can start a journey\; but PRAYER can change the impossible. It is always a privilege to pray together! Tri-County Women&#39\;s Connection invites the women in our communities to join together in a special and sacred time of prayer. Find that place where you are welcomed as you are. In a comfortable and warm setting\, we will be encouraged through inspirational thought to pray (with no pressure to pray audibly) for America and its leaders\, our communities and families\, our teachers and pastors\, those who do not yet know Christ\, Stonecroft\, outreach ministries and more. We are praying that you will join our Prayer Connection and share with us the power of prayer on Wednesday\, December 27th from 10:30 a.m. until noon at Healing Hands Community Clinic\, 64 Brackett&#39\;s Way\, Suite 3\, Blairsville\, Georgia 30512\, Phone: 706-994-6768. Coffee and light snacks will be provided. No reservation needed. Tri-County Women&#39\;s Connection and Prayer Connection are both affiliated with Stonecroft.org. May God&rsquo\;s love and grace give you confidence to embrace opportunities\, new dreams\, happiness on your path\, and an abundance of love. Isaiah 9:6 &ldquo\;For to us a child is born\, to us a son is given\, and the government shall be upon his shoulder\, and his name shall be called Wonderful Counselor\, Mighty God\, Everlasting Father\, Prince of Peace.&rdquo\; The meeting will NOT be held If Union County Schools are closed due to inclement weather.
LOCATION:Healing Hands Community Clinic\, 64 Brackett's Way\, Suite 3\, Blairsville\, Georgia 30512\, Phone: 706-994-6768
UID:e.256.77186
SEQUENCE:3
DTSTAMP:20260419T141630Z
URL:https://members.visitblairsvillega.com/events/details/tri-county-women-s-connection-december-prayer-meeting-77186
END:VEVENT

END:VCALENDAR
