BEGIN:VCALENDAR
VERSION:2.0
PRODID:-//ChamberMaster//Event Calendar 2.0//EN
METHOD:PUBLISH
X-PUBLISHED-TTL:P3D
REFRESH-INTERVAL:P3D
CALSCALE:GREGORIAN
BEGIN:VEVENT
DTSTART:20171010T220000Z
DTEND:20171011T000000Z
X-MICROSOFT-CDO-ALLDAYEVENT:FALSE
SUMMARY:Tri-County Women's Connection - Ladies Night Out - Dinner & Fashion Show
DESCRIPTION:LADIES NIGHT OUT   DINNER & FASHION SHOW You and your friends are invited to enjoy dinner\, a fall fashion show\, and entertainment in The Banquet Room of the Union County Community Center overlooking beautiful Butternut Creek Golf Course from 6-8 p.m.\, Tuesday\, October 10\, 2017. The evening begins with a scrumptious dinner: salad\, beef tips au jus\, rosemary potatoes\, roasted veggies and yummy desserts brightly decorated for the fall season. After a delicious dinner\, our entertainment begins as models show off the latest clothing for the fall season from Sharon's Fashions. Providing clothing since 1991\, Sharon's has all of the latest fashions for juniors and misses sizes\, along with styles for all occasions. Her clothing line is creative and unique. And\, you can accessorize that perfect outfit from a large selection of Sharon's jewelry and purses   all at affordable prices! Lots of great gift ideas too! Sharon's is located at 94 Town Square\, Blairsville. Store hours are 10:00 to 5:30 Monday   Saturday. The clothing store can be found on Facebook\, too! We extend a warm welcome to our models\, participants of the North Enotah Drug Court\, operating under the judicial supervision of Superior Court Judge Stanley Gunter\, Court Coordinator and Program Director\, Barbara Honaker\, and a team of twenty professionals. All are committed to each participant and their families in building a solid future\, and devoted to changing lives for the betterment of those in our communities. Kathy Hatley of Blairsville provides our music melodies\, and we are looking forward to the two songs she will perform! Kathy has been in Blairsville since 1998. She and her husband have been married for 39 years\, and have two children and two grandchildren (with another one the way). Kathy has performed for years in various ensembles. Faith Jennings' own story "Finding Freedom From A Life of Bondage" concludes our evening. Faith is a wife\, mom and a Jazzercise instructor in Bishop GA.\, who\, in her "spare" time\, enjoys riding motorcycles with her husband and camping with her family. Please plan to share this special evening with us and invite a friend! The cost is $18.00 which includes the program\, dinner\, dessert\, tea/coffee and tip. Pre-paid reservations are required by Tuesday\, October 3rd. Mail your checks made payable to TCWC to Lilly Adams\, 21 Holloway Road\, Blairsville\, GA 30512. If you are paying for other guests\, please include names. For additional information\, please call Diane Arlotta at 706-835-9348. Plan to arrive early as our program begins promptly at 6:00pm. We can't wait to see you on October 10th! (The Union County Community Center is located at 129 Union County Recreation Road\, Blairsville.) Hosted by Tri County Women's Connection Affiliated with Stonecroft.org
X-ALT-DESC;FMTTYPE=text/html:LADIES NIGHT OUT &ndash\; DINNER &amp\; FASHION SHOW You and your friends are invited to enjoy dinner\, a fall fashion show\, and entertainment in The Banquet Room of the Union County Community Center overlooking beautiful Butternut Creek Golf Course from 6-8 p.m.\, Tuesday\, October 10\, 2017. The evening begins with a scrumptious dinner: salad\, beef tips au jus\, rosemary potatoes\, roasted veggies and yummy desserts brightly decorated for the fall season. After a delicious dinner\, our entertainment begins as models show off the latest clothing for the fall season from Sharon&rsquo\;s Fashions. Providing clothing since 1991\, Sharon&rsquo\;s has all of the latest fashions for juniors and misses sizes\, along with styles for all occasions. Her clothing line is creative and unique. And\, you can accessorize that perfect outfit from a large selection of Sharon&rsquo\;s jewelry and purses &ndash\; all at affordable prices! Lots of great gift ideas too! Sharon&rsquo\;s is located at 94 Town Square\, Blairsville. Store hours are 10:00 to 5:30 Monday &ndash\; Saturday. The clothing store can be found on Facebook\, too! We extend a warm welcome to our models\, participants of the North Enotah Drug Court\, operating under the judicial supervision of Superior Court Judge Stanley Gunter\, Court Coordinator and Program Director\, Barbara Honaker\, and a team of twenty professionals. All are committed to each participant and their families in building a solid future\, and devoted to changing lives for the betterment of those in our communities. Kathy Hatley of Blairsville provides our music melodies\, and we are looking forward to the two songs she will perform! Kathy has been in Blairsville since 1998. She and her husband have been married for 39 years\, and have two children and two grandchildren (with another one the way). Kathy has performed for years in various ensembles. Faith Jennings&#39\; own story &quot\;Finding Freedom From A Life of Bondage&quot\; concludes our evening. Faith is a wife\, mom and a Jazzercise instructor in Bishop GA.\, who\, in her &quot\;spare&quot\; time\, enjoys riding motorcycles with her husband and camping with her family. Please plan to share this special evening with us and invite a friend! The cost is $18.00 which includes the program\, dinner\, dessert\, tea/coffee and tip. Pre-paid reservations are required by Tuesday\, October 3rd. Mail your checks made payable to TCWC to Lilly Adams\, 21 Holloway Road\, Blairsville\, GA 30512. If you are paying for other guests\, please include names. For additional information\, please call Diane Arlotta at 706-835-9348. Plan to arrive early as our program begins promptly at 6:00pm. We can&rsquo\;t wait to see you on October 10th! (The Union County Community Center is located at 129 Union County Recreation Road\, Blairsville.) Hosted by Tri County Women&#39\;s Connection Affiliated with Stonecroft.org
LOCATION:The Banquet Room of the Union County Community Center overlooking beautiful Butternut Creek Golf Course
UID:e.256.75984
SEQUENCE:3
DTSTAMP:20260419T160648Z
URL:https://members.visitblairsvillega.com/events/details/tri-county-women-s-connection-ladies-night-out-dinner-fashion-show-75984
END:VEVENT

END:VCALENDAR
