BEGIN:VCALENDAR
VERSION:2.0
PRODID:-//ChamberMaster//Event Calendar 2.0//EN
METHOD:PUBLISH
X-PUBLISHED-TTL:P3D
REFRESH-INTERVAL:P3D
CALSCALE:GREGORIAN
BEGIN:VEVENT
DTSTART:20161207T163000Z
DTEND:20161207T183000Z
X-MICROSOFT-CDO-ALLDAYEVENT:FALSE
SUMMARY:Tri-County Women's Connection Luncheon & Program
DESCRIPTION:Securing Our Future By Supporting Youth And Families: Tri-County Women's Connection Please join us for our luncheon on Wednesday\, December 7th as Tri County Women's Connection showcases a vital community resource\, Union County Family Connection\, a member of the only statewide network of its kind celebrating 25 years of dedication to the health and well-being of families and communities. The vision of Union County Family Connection is that every child in our community will grow up to become a successful\, productive and contributing adult. Katy Jones\, Mentor\, Niy lo and Family Connection Coordinator\, will be our featured presenter and describe how the UC Family Connection works with schools and other community agencies to assess and connect families with vital resources through its outreach program which meets basic needs such as clothing\, food\, glasses\, health care\, school supplies\, shelter\, etc.\, the mentor program that works with students to provide adult role models\, and Niy lo groups that explore outdoor adventure fostering teamwork\, cooperation and leadership. You will walk away from this presentation with gratitude and amazement\, and realize the many ways in which the UC Family Connection touches each one of us. (If you wish to donate hygiene items or school supplies\, please bring them to the luncheon.) Katy Jones\, a Blairsville native has a Bachelor's degree in Sociology from North Georgia College. She has been with the UC Family Connection for fourteen years. She is married with three children and enjoys camping\, hiking and other outdoor activities (did we mention lots of farm animals   a passion of her husband's). She is also a member of the Anti-Drug Coalition. Next\, Paula Jean Reddit will entertain us with her violin. Ms. Paula has lived in Blairsville since 1981 and plays in the North Georgia Chamber Symphony and First Baptist Church. She is also the music/entertainment chairman of the Blairsville Scottish and Highland Games. Finally\, our time together is highlighted by Carolyn Sofield who entertains us with a mini drama\, Women of Christmas\, making the season come alive! Carolyn is a former teacher\, medical transcriptionist and office manager. Carolyn is from Tennessee\, married\, and enjoys sewing\, writing and people! Please plan to share this special afternoon with us on December 7th at Monet's\, and invite a friend! Make your reservations by December 5th! The cost is $11(cash or check) and includes a delicious lunch with dessert\, tea/coffee\, tip\, AND a most enjoyable luncheon full of entertainment! Check-in begins at 11:30 a.m. with the program beginning promptly at noon. For reservations or cancellations call Betty Taylor at 705-745-2248\, or email bgtaylor169@yahoo.com or jowabow@aol.com. If Union County Schools are closed the day of the luncheon due to inclement weather\, the luncheon will not be held.
X-ALT-DESC;FMTTYPE=text/html:Securing Our Future By Supporting Youth And Families: Tri-County Women&rsquo\;s Connection Please join us for our luncheon on Wednesday\, December 7th as Tri County Women&rsquo\;s Connection showcases a vital community resource\, Union County Family Connection\, a member of the only statewide network of its kind celebrating 25 years of dedication to the health and well-being of families and communities. The vision of Union County Family Connection is that every child in our community will grow up to become a successful\, productive and contributing adult. Katy Jones\, Mentor\, Niy&eacute\;lo and Family Connection Coordinator\, will be our featured presenter and describe how the UC Family Connection works with schools and other community agencies to assess and connect families with vital resources through its outreach program which meets basic needs such as clothing\, food\, glasses\, health care\, school supplies\, shelter\, etc.\, the mentor program that works with students to provide adult role models\, and Niy&eacute\;lo groups that explore outdoor adventure fostering teamwork\, cooperation and leadership. You will walk away from this presentation with gratitude and amazement\, and realize the many ways in which the UC Family Connection touches each one of us. (If you wish to donate hygiene items or school supplies\, please bring them to the luncheon.) Katy Jones\, a Blairsville native has a Bachelor&rsquo\;s degree in Sociology from North Georgia College. She has been with the UC Family Connection for fourteen years. She is married with three children and enjoys camping\, hiking and other outdoor activities (did we mention lots of farm animals &ndash\; a passion of her husband&rsquo\;s). She is also a member of the Anti-Drug Coalition. Next\, Paula Jean Reddit will entertain us with her violin. Ms. Paula has lived in Blairsville since 1981 and plays in the North Georgia Chamber Symphony and First Baptist Church. She is also the music/entertainment chairman of the Blairsville Scottish and Highland Games. Finally\, our time together is highlighted by Carolyn Sofield who entertains us with a mini drama\, Women of Christmas\, making the season come alive! Carolyn is a former teacher\, medical transcriptionist and office manager. Carolyn is from Tennessee\, married\, and enjoys sewing\, writing and people! Please plan to share this special afternoon with us on December 7th at Monet&rsquo\;s\, and invite a friend! Make your reservations by December 5th! The cost is $11(cash or check) and includes a delicious lunch with dessert\, tea/coffee\, tip\, AND a most enjoyable luncheon full of entertainment! Check-in begins at 11:30 a.m. with the program beginning promptly at noon. For reservations or cancellations call Betty Taylor at 705-745-2248\, or email bgtaylor169@yahoo.com or jowabow@aol.com. If Union County Schools are closed the day of the luncheon due to inclement weather\, the luncheon will not be held.
LOCATION:Monet's\, 130 Blue Ridge Street\, Blairsville
UID:e.256.60498
SEQUENCE:3
DTSTAMP:20260420T111831Z
URL:https://members.visitblairsvillega.com/events/details/tri-county-women-s-connection-luncheon-program-12-07-2016-60498
END:VEVENT

END:VCALENDAR
