BEGIN:VCALENDAR
VERSION:2.0
PRODID:-//ChamberMaster//Event Calendar 2.0//EN
METHOD:PUBLISH
X-PUBLISHED-TTL:P3D
REFRESH-INTERVAL:P3D
CALSCALE:GREGORIAN
BEGIN:VEVENT
DTSTART:20160601T151500Z
DTEND:20160601T173000Z
X-MICROSOFT-CDO-ALLDAYEVENT:FALSE
SUMMARY:Tri-County Women's Connection of No. Georgia Luncheon & Program
DESCRIPTION:How to Make Your Travel Dreams Come True at TCWC Everyone loves a happy adventure! Captain Doug Loyd and Diana Mendoza\, members of DreamTrips Travel Club\, will share how vacation travel can be all fun and no stress at Tri-County Women's Connection luncheon on Wednesday\, June 1st at Monet's at 12:00 noon. DreamTrips Travel Club has won the World Travel Awards\, the "Oscars of Travel"\, for 2012 through 2015\, consecutively! It's the ultimate travel club community\, allowing you to travel anytime\, anywhere. DreamTrips are fully hosted 4 and 5 star curate VIP vacation experiences that include an array of benefits such as fine restaurants\, excursions\, and exquisite hotels\, taxes\, resort fees\, and many other benefits that provide uniquely remarkable experiences to destinations worldwide. DreamTrips Travel Club has now been rated the number one travel club in 4 continents\, and is comprised of close to 1 million members globally. Diana Mendoza\, a successful business owner\, originally from California\, and now residing in Sugar Hill\, GA says DreamTrips provides fun\, freedom\, and fulfillment to all who experience them! Doug Loyd has been a member of DreamTrips for a little over two years. He says the number one benefit of a DreamTrips membership is taking stress free vacations at wholesale prices\, with all the details handled by a host on site! A Blairsville native\, Doug and wife Rachel\, have three teenage boys\, and are foster parents to three younger girls. Doug is also Captain of the Sheriff's Office of Union County. Marianne Engelmann will add musical entertainment to our luncheon with her talent. She holds a Bachelor of Music Education from the Chicago Conservatory\, and a Master of Arts in Theology Studies from Notre Dame. Marianne is a Volunteer Choir Director at St. Francis of Assisi Church. She\, with her family\, lived in the Midwest before moving to Blairsville in 2010. "A Love That Took her from Sadness and Despair to Hope and Happiness" is the theme of Krista Elayan's presentation to us. Krista\, mom to four children\, tells us how she lost her first husband in a tragic accident and survived breast cancer. Her uplifting story will explain how she got through this difficult time. Please make your reservations to attend by Monday\, May 30th\, and bring a friend or two! The cost of $11.00 is all inclusive. Please pay by check or cash. Call or email Jocelyn\, jowabow@aol.com or 706-781-1537\, or Betty\, bgtaylor169@yahoo.com or 706-745-2248 to reserve your seat. Check-in begins at 11:15 AM on June first\, so all may be seated and ready when the program begins promptly at noon.
X-ALT-DESC;FMTTYPE=text/html:How to Make Your Travel Dreams Come True at TCWC Everyone loves a happy adventure! Captain Doug Loyd and Diana Mendoza\, members of DreamTrips Travel Club\, will share how vacation travel can be all fun and no stress at Tri-County Women&rsquo\;s Connection luncheon on Wednesday\, June 1st at Monet&rsquo\;s at 12:00 noon. DreamTrips Travel Club has won the World Travel Awards\, the &ldquo\;Oscars of Travel&rdquo\;\, for 2012 through 2015\, consecutively! It&rsquo\;s the ultimate travel club community\, allowing you to travel anytime\, anywhere. DreamTrips are fully hosted 4 and 5 star curate VIP vacation experiences that include an array of benefits such as fine restaurants\, excursions\, and exquisite hotels\, taxes\, resort fees\, and many other benefits that provide uniquely remarkable experiences to destinations worldwide. DreamTrips Travel Club has now been rated the number one travel club in 4 continents\, and is comprised of close to 1 million members globally. Diana Mendoza\, a successful business owner\, originally from California\, and now residing in Sugar Hill\, GA says DreamTrips provides fun\, freedom\, and fulfillment to all who experience them! Doug Loyd has been a member of DreamTrips for a little over two years. He says the number one benefit of a DreamTrips membership is taking stress free vacations at wholesale prices\, with all the details handled by a host on site! A Blairsville native\, Doug and wife Rachel\, have three teenage boys\, and are foster parents to three younger girls. Doug is also Captain of the Sheriff&rsquo\;s Office of Union County. Marianne Engelmann will add musical entertainment to our luncheon with her talent. She holds a Bachelor of Music Education from the Chicago Conservatory\, and a Master of Arts in Theology Studies from Notre Dame. Marianne is a Volunteer Choir Director at St. Francis of Assisi Church. She\, with her family\, lived in the Midwest before moving to Blairsville in 2010. &ldquo\;A Love That Took her from Sadness and Despair to Hope and Happiness&rdquo\; is the theme of Krista Elayan&rsquo\;s presentation to us. Krista\, mom to four children\, tells us how she lost her first husband in a tragic accident and survived breast cancer. Her uplifting story will explain how she got through this difficult time. Please make your reservations to attend by Monday\, May 30th\, and bring a friend or two! The cost of $11.00 is all inclusive. Please pay by check or cash. Call or email Jocelyn\, jowabow@aol.com or 706-781-1537\, or Betty\, bgtaylor169@yahoo.com or 706-745-2248 to reserve your seat. Check-in begins at 11:15 AM on June first\, so all may be seated and ready when the program begins promptly at noon.
LOCATION:Monet's\, 130 Blue Ridge Street\, Blairsville
UID:e.256.51275
SEQUENCE:3
DTSTAMP:20260420T223124Z
URL:https://members.visitblairsvillega.com/events/details/tri-county-women-s-connection-of-no-georgia-luncheon-program-06-01-2016-51275
END:VEVENT

END:VCALENDAR
