BEGIN:VCALENDAR
VERSION:2.0
PRODID:-//ChamberMaster//Event Calendar 2.0//EN
METHOD:PUBLISH
X-PUBLISHED-TTL:P3D
REFRESH-INTERVAL:P3D
CALSCALE:GREGORIAN
BEGIN:VEVENT
DTSTART:20150506T150000Z
DTEND:20150506T160000Z
X-MICROSOFT-CDO-ALLDAYEVENT:FALSE
SUMMARY:Tri-County Women's Connection of North Georgia
DESCRIPTION:You are cordially invited to the Tri-County Women's Connection of North Georgia May Prayer Connection. Join the ladies of TCWC for a time of fellowship over a cup of coffee or drink of your choice\, a delicious pastry or savory lunch. Come join us for a time of fellowship\, great food and spiritual fortification
X-ALT-DESC;FMTTYPE=text/html:You are cordially invited to the Tri-County Women&#39\;s Connection of North Georgia May Prayer Connection. Join the ladies of TCWC for a time of fellowship over a cup of coffee or drink of your choice\, a delicious pastry or savory lunch. Come join us for a time of fellowship\, great food and spiritual fortification
LOCATION:G&G Bakery & Cafe (formerly Grinds & Glazes) 262 Hwy 515 East\, Suite 2 just east of CVS and before you get to the post office.
UID:e.256.39995
SEQUENCE:3
DTSTAMP:20260423T182749Z
URL:https://members.visitblairsvillega.com/events/details/tri-county-women-s-connection-of-north-georgia-05-06-2015-39995
END:VEVENT

END:VCALENDAR
