BEGIN:VCALENDAR
VERSION:2.0
PRODID:-//ChamberMaster//Event Calendar 2.0//EN
METHOD:PUBLISH
X-PUBLISHED-TTL:P3D
REFRESH-INTERVAL:P3D
CALSCALE:GREGORIAN
BEGIN:VEVENT
DTSTART:20160302T160000Z
DTEND:20160302T170000Z
X-MICROSOFT-CDO-ALLDAYEVENT:FALSE
SUMMARY:Tri-County Women's Connection Prayer Connection
DESCRIPTION:March TCWC Prayer Connection The Tri-County Women?s Connection cordially invites all area women who are interested to join us for our March Prayer Connection. We will hold our bimonthly meeting on Wednesday\, March 2nd\, from 11:00 to 12:00 noon at G & G Bakery and Caf \, formerly known as Grinds and Glazes. Order a warm cup of coffee and a pastry\, or a delicious lunch to enjoy as you join us back in the Atrium room. We welcome your prayer requests\, but you will never be asked to pray out loud. We will have a brief devotional\, fellowship\, and friendship. A TCWC planning team meeting will be held immediately following the Prayer Connection. You won?t be expected to stay for this\, but are welcome to if you are interested in learning more about the Tri-County Women?s Connection. For more information about the TCWC Prayer Connection\, please contact Zelda Merritt at 706-897-6440. If the Union County Schools are closed due to inclement weather that day\, our Prayer Connection will also be canceled.
X-ALT-DESC;FMTTYPE=text/html:March TCWC Prayer Connection The Tri-County Women?s Connection cordially invites all area women who are interested to join us for our March Prayer Connection. We will hold our bimonthly meeting on Wednesday\, March 2nd\, from 11:00 to 12:00 noon at G &amp\; G Bakery and Caf&eacute\;\, formerly known as Grinds and Glazes. Order a warm cup of coffee and a pastry\, or a delicious lunch to enjoy as you join us back in the Atrium room. We welcome your prayer requests\, but you will never be asked to pray out loud. We will have a brief devotional\, fellowship\, and friendship. A TCWC planning team meeting will be held immediately following the Prayer Connection. You won?t be expected to stay for this\, but are welcome to if you are interested in learning more about the Tri-County Women?s Connection. For more information about the TCWC Prayer Connection\, please contact Zelda Merritt at 706-897-6440. If the Union County Schools are closed due to inclement weather that day\, our Prayer Connection will also be canceled.
LOCATION:G & G Bakery and Caf \, formerly known as Grinds and Glazes\, Blairsville
UID:e.256.49613
SEQUENCE:3
DTSTAMP:20260421T040140Z
URL:https://members.visitblairsvillega.com/events/details/tri-county-women-s-connection-prayer-connection-03-02-2016-49613
END:VEVENT

END:VCALENDAR
