BEGIN:VCALENDAR
VERSION:2.0
PRODID:-//ChamberMaster//Event Calendar 2.0//EN
METHOD:PUBLISH
X-PUBLISHED-TTL:P3D
REFRESH-INTERVAL:P3D
CALSCALE:GREGORIAN
BEGIN:VEVENT
DTSTART:20151104T160000Z
DTEND:20151104T170000Z
X-MICROSOFT-CDO-ALLDAYEVENT:FALSE
SUMMARY:Tri-County Women's Connection Prayer Connection
DESCRIPTION:The Tri-County Women's Connection cordially invites all area women who are interested in joining us for our November Prayer Connection. We will hold our bi-monthly meeting on Wednesday\, November 4th\, from 11:00 to 12:00 noon at G & G Bakery and Caf \, formerly known as Grinds and Glazes. Order a warm cup of coffee and a pastry\, or a delicious lunch to enjoy as you join us back in the Atrium room. We welcome your prayer requests\, but you will never be asked to pray out loud. We will have a brief devotional\, fellowship\, and friendship. Please join us and invite a friend or two!! For more information about the TCWC Prayer Connection\, please contact Zelda Merritt at 706-897-6440 Matthew 18:20 "For where two or three are gathered together in my name\, there am I in the midst of them." King James Version (KJV)
X-ALT-DESC;FMTTYPE=text/html:The Tri-County Women&#39\;s Connection cordially invites all area women who are interested in joining us for our November Prayer Connection. We will hold our bi-monthly meeting on Wednesday\, November 4th\, from 11:00 to 12:00 noon at G &amp\; G Bakery and Caf&eacute\;\, formerly known as Grinds and Glazes. Order a warm cup of coffee and a pastry\, or a delicious lunch to enjoy as you join us back in the Atrium room. We welcome your prayer requests\, but you will never be asked to pray out loud. We will have a brief devotional\, fellowship\, and friendship. Please join us and invite a friend or two!! For more information about the TCWC Prayer Connection\, please contact Zelda Merritt at 706-897-6440 Matthew 18:20 &quot\;For where two or three are gathered together in my name\, there am I in the midst of them.&quot\; King James Version (KJV)
LOCATION:G & G Bakery and Caf \, formerly known as Grinds and Glazes\, Blairsville
UID:e.256.44420
SEQUENCE:3
DTSTAMP:20260423T085420Z
URL:https://members.visitblairsvillega.com/events/details/tri-county-women-s-connection-prayer-connection-11-04-2015-44420
END:VEVENT

END:VCALENDAR
