BEGIN:VCALENDAR
VERSION:2.0
PRODID:-//ChamberMaster//Event Calendar 2.0//EN
METHOD:PUBLISH
X-PUBLISHED-TTL:P3D
REFRESH-INTERVAL:P3D
CALSCALE:GREGORIAN
BEGIN:VEVENT
DTSTART:20150902T150000Z
DTEND:20150902T160000Z
X-MICROSOFT-CDO-ALLDAYEVENT:FALSE
SUMMARY:Tri-County Women's Prayer Connection
DESCRIPTION:September TCWC Prayer Connection The Tri-County Women's Connection cordially invites all area women who are interested to join us for our September Prayer Connection. We will hold our bimonthly meeting on Wednesday\, September 2nd\, from 11:00 to 12:00 noon at G & G Bakery and Caf \, formerly known as Grinds and Glazes. Order a warm cup of coffee and a pastry\, or a delicious lunch to enjoy as you join us back in the Atrium room. We welcome your prayer requests\, but you will never be asked to pray out loud. We will have a brief devotional\, fellowship\, and friendship. A TCWC planning team meeting will be held immediately following the Prayer Connection. You won't be expected to stay for this\, but are welcome to if you are interested in learning more about the Tri-County Women's Connection. For more information about the TCWC Prayer Connection\, please contact Zelda Merritt at 706-897-6440.
X-ALT-DESC;FMTTYPE=text/html:September TCWC Prayer Connection The Tri-County Women&#39\;s Connection cordially invites all area women who are interested to join us for our September Prayer Connection. We will hold our bimonthly meeting on Wednesday\, September 2nd\, from 11:00 to 12:00 noon at G &amp\; G Bakery and Caf&eacute\;\, formerly known as Grinds and Glazes. Order a warm cup of coffee and a pastry\, or a delicious lunch to enjoy as you join us back in the Atrium room. We welcome your prayer requests\, but you will never be asked to pray out loud. We will have a brief devotional\, fellowship\, and friendship. A TCWC planning team meeting will be held immediately following the Prayer Connection. You won&#39\;t be expected to stay for this\, but are welcome to if you are interested in learning more about the Tri-County Women&#39\;s Connection. For more information about the TCWC Prayer Connection\, please contact Zelda Merritt at 706-897-6440.
LOCATION:G & G Bakery & Cafe\, formerly known as Grinds & Glazes
UID:e.256.43913
SEQUENCE:3
DTSTAMP:20260423T134055Z
URL:https://members.visitblairsvillega.com/events/details/tri-county-women-s-prayer-connection-09-02-2015-43913
END:VEVENT

END:VCALENDAR
