BEGIN:VCALENDAR
VERSION:2.0
PRODID:-//ChamberMaster//Event Calendar 2.0//EN
METHOD:PUBLISH
X-PUBLISHED-TTL:P3D
REFRESH-INTERVAL:P3D
CALSCALE:GREGORIAN
BEGIN:VEVENT
DTSTART:20150304T160000Z
DTEND:20150304T170000Z
X-MICROSOFT-CDO-ALLDAYEVENT:FALSE
SUMMARY:Tri-County Womens Bimonthly Prayer Connection
DESCRIPTION:March TCWC Prayer Connection The Tri-County Women?s Connection cordially invites all area women who are interested to join us for our March Prayer Connection. We will hold our bimonthly meeting on Wednesday\, March 4th from 11:00 to 12:00 at G and G Bakery and Caf \, formerly Grinds and Glazes. Order your food on the way in\, then join us back in the Atrium room. We welcome your prayer requests\, but you will never be asked to pray out loud. We will have a brief devotional\, fellowship and friendship. A TCWC planning team meeting will be held immediately after the Prayer Connection. You won't be expected to stay for this\, but are welcome to if you are interested in learning more about the Tri-County Women's Connection. For more information about the TCWC Prayer Connection\, please contact Zelda Merritt at 706-897-6440. Please remember\, if the Union County Schools are closed due to inclement weather that day\, our Prayer Connection and meeting will also be canceled.
X-ALT-DESC;FMTTYPE=text/html:March TCWC Prayer Connection The Tri-County Women?s Connection cordially invites all area women who are interested to join us for our March Prayer Connection. We will hold our bimonthly meeting on Wednesday\, March 4th from 11:00 to 12:00 at G and G Bakery and Caf&eacute\;\, formerly Grinds and Glazes. Order your food on the way in\, then join us back in the Atrium room. We welcome your prayer requests\, but you will never be asked to pray out loud. We will have a brief devotional\, fellowship and friendship. A TCWC planning team meeting will be held immediately after the Prayer Connection. You won&#39\;t be expected to stay for this\, but are welcome to if you are interested in learning more about the Tri-County Women&#39\;s Connection. For more information about the TCWC Prayer Connection\, please contact Zelda Merritt at 706-897-6440. Please remember\, if the Union County Schools are closed due to inclement weather that day\, our Prayer Connection and meeting will also be canceled.
LOCATION:G and G Bakery & Cafe (formerly Grinds and Glazes) on 515 just past CVS and before the Post Office.
UID:e.256.37492
SEQUENCE:3
DTSTAMP:20260423T224248Z
URL:https://members.visitblairsvillega.com/events/details/tri-county-womens-bimonthly-prayer-connection-03-04-2015-37492
END:VEVENT

END:VCALENDAR
