BEGIN:VCALENDAR
VERSION:2.0
PRODID:-//ChamberMaster//Event Calendar 2.0//EN
METHOD:PUBLISH
X-PUBLISHED-TTL:P3D
REFRESH-INTERVAL:P3D
CALSCALE:GREGORIAN
BEGIN:VEVENT
DTSTART:20170531T143000Z
DTEND:20170531T160000Z
X-MICROSOFT-CDO-ALLDAYEVENT:FALSE
SUMMARY:Tri-County Womens Connection: May Prayer Meeting
DESCRIPTION:Tri-County Women's Connection: May Prayer Meeting Find that place where you are welcomed as you are\, with all your joys\, pains\, successes and struggles. It is truly a privilege to pray together! The Tri-County Women's Connection invites the women in our communities to join together in a special and sacred time of prayer. In a comfortable and warm setting\, we will be encouraged through inspirational thought to pray (with no pressure to pray audibly) for America and its leaders\, our communities and families\, those who do not yet know Christ\, Stonecroft\, outreach ministries and more. We are praying that you will join our Prayer Connection and share with us the power of prayer on Wednesday\, May 31st from 10:30 a.m. until noon at Healing Hands Community Clinic\, 64 Brackett's Way\, Suite 3\, Blairsville\, Georgia 30512\, Phone: 706-994-6768. Coffee and light snacks will be provided. Tri-County Women's Connection and Prayer Connection is affiliated with Stonecroft.org. May God's love and grace give you confidence to embrace opportunities\, new dreams\, happiness on your path\, and an abundance of love. "For where two or three gather in my name\, there am I with them." (Matthew 18:20)
X-ALT-DESC;FMTTYPE=text/html:Tri-County Women&rsquo\;s Connection: May Prayer Meeting Find that place where you are welcomed as you are\, with all your joys\, pains\, successes and struggles. It is truly a privilege to pray together! The Tri-County Women&#39\;s Connection invites the women in our communities to join together in a special and sacred time of prayer. In a comfortable and warm setting\, we will be encouraged through inspirational thought to pray (with no pressure to pray audibly) for America and its leaders\, our communities and families\, those who do not yet know Christ\, Stonecroft\, outreach ministries and more. We are praying that you will join our Prayer Connection and share with us the power of prayer on Wednesday\, May 31st from 10:30 a.m. until noon at Healing Hands Community Clinic\, 64 Brackett&#39\;s Way\, Suite 3\, Blairsville\, Georgia 30512\, Phone: 706-994-6768. Coffee and light snacks will be provided. Tri-County Women&#39\;s Connection and Prayer Connection is affiliated with Stonecroft.org. May God&rsquo\;s love and grace give you confidence to embrace opportunities\, new dreams\, happiness on your path\, and an abundance of love. &ldquo\;For where two or three gather in my name\, there am I with them.&rdquo\; (Matthew 18:20)
LOCATION:Healing Hands Community Clinic\, 64 Brackett's Way\, Suite 3\, Blairsville\, Georgia 30512\, Phone: 706-994-6768. Coffee and light snacks will be provided.
UID:e.256.73815
SEQUENCE:3
DTSTAMP:20260420T010151Z
URL:https://members.visitblairsvillega.com/events/details/tri-county-womens-connection-may-prayer-meeting-73815
END:VEVENT

END:VCALENDAR
