BEGIN:VCALENDAR
VERSION:2.0
PRODID:-//ChamberMaster//Event Calendar 2.0//EN
METHOD:PUBLISH
X-PUBLISHED-TTL:P3D
REFRESH-INTERVAL:P3D
CALSCALE:GREGORIAN
BEGIN:VEVENT
DTSTART:20160706T150000Z
DTEND:20160706T160000Z
X-MICROSOFT-CDO-ALLDAYEVENT:FALSE
SUMMARY:Tri-County Womens Prayer Connection
DESCRIPTION:July TCWC Prayer Connection The Tri-County Women's Connection cordially invites all area women to join us for our July Prayer Connection. We will meet on Wednesday\, July 6th\, from 11:00 to 12:00 noon at G & G Bakery and Caf \, formerly known as Grinds and Glazes. Order a warm cup of coffee and a pastry\, or a delicious lunch to enjoy as you join us back in the Atrium room. After a brief devotional and fellowship\, we welcome written prayer requests. All written prayer requests are then passed around for individual prayer. A TCWC planning team meeting begins immediately following the Prayer Connection. Please plan to stay if you want more information about the Tri-County Women's Connection. The Tri-County Women's Connection and Prayer Connection are affiliated with Stonecroft .org.
X-ALT-DESC;FMTTYPE=text/html:July TCWC Prayer Connection The Tri-County Women&rsquo\;s Connection cordially invites all area women to join us for our July Prayer Connection. We will meet on Wednesday\, July 6th\, from 11:00 to 12:00 noon at G &amp\; G Bakery and Caf&eacute\;\, formerly known as Grinds and Glazes. Order a warm cup of coffee and a pastry\, or a delicious lunch to enjoy as you join us back in the Atrium room. After a brief devotional and fellowship\, we welcome written prayer requests. All written prayer requests are then passed around for individual prayer. A TCWC planning team meeting begins immediately following the Prayer Connection. Please plan to stay if you want more information about the Tri-County Women&rsquo\;s Connection. The Tri-County Women&rsquo\;s Connection and Prayer Connection are affiliated with Stonecroft .org.
LOCATION:G & G Bakery and Caf \, formerly known as Grinds and Glazes\, Blairsville
UID:e.256.53279
SEQUENCE:3
DTSTAMP:20260420T183749Z
URL:https://members.visitblairsvillega.com/events/details/tri-county-womens-prayer-connection-07-06-2016-53279
END:VEVENT

END:VCALENDAR
