BEGIN:VCALENDAR
VERSION:2.0
PRODID:-//ChamberMaster//Event Calendar 2.0//EN
METHOD:PUBLISH
X-PUBLISHED-TTL:P3D
REFRESH-INTERVAL:P3D
CALSCALE:GREGORIAN
BEGIN:VEVENT
DTSTART:20170930T140000Z
DTEND:20170930T210000Z
X-MICROSOFT-CDO-ALLDAYEVENT:FALSE
SUMMARY:Tri-State Business Women's Fall Expo & Market
DESCRIPTION:The Tri-State Business Women's Fall Expo & Market will showcase the area's finest women-owned and/or operated businesses. Bring the whole family for a day of shopping\, eating\, and fun!
X-ALT-DESC;FMTTYPE=text/html:The Tri-State Business Women&#39\;s Fall Expo &amp\; Market will showcase the area&#39\;s finest women-owned and/or operated businesses. Bring the whole family for a day of shopping\, eating\, and fun!
LOCATION:Haralson Memorial Civic Center 165 Wellborn St. Blairsville\, GA 30512
UID:e.256.76026
SEQUENCE:3
DTSTAMP:20260419T193207Z
URL:https://members.visitblairsvillega.com/events/details/tri-state-business-women-s-fall-expo-market-76026
END:VEVENT

END:VCALENDAR
