BEGIN:VCALENDAR
VERSION:2.0
PRODID:-//ChamberMaster//Event Calendar 2.0//EN
METHOD:PUBLISH
X-PUBLISHED-TTL:P3D
REFRESH-INTERVAL:P3D
CALSCALE:GREGORIAN
BEGIN:VEVENT
DTSTART:20170404T120000Z
DTEND:20170404T130000Z
X-MICROSOFT-CDO-ALLDAYEVENT:FALSE
SUMMARY:Tri-State Business Women's Weekly Meeting
DESCRIPTION:Tri-State Business Women is a not for profit organization of entrepreneurial women in Union and surrounding counties\, who own\, co-own\, operate and/or accepts full responsibility for a business and is or wants to be a positive force in the community. Our vision and mission is to support one another in continuing success through education\, networking and marketing.\n\nIf you are a woman in business in Union or a surrounding county in the Tri-State area\, there is a place for you to receive support\, gain leads\, learn and spread the word of your practice or business in the area.
X-ALT-DESC;FMTTYPE=text/html:<p>Tri-State Business Women is a not for profit organization of entrepreneurial women in Union and surrounding counties\, who own\, co-own\, operate and/or accepts full responsibility for a business and is or wants to be a positive force in the community. Our vision and mission is to support one another in continuing success through education\, networking and marketing.</p>\n\n<p>If you are a woman in business in Union or a surrounding county in the Tri-State area\, there is a place for you to receive support\, gain leads\, learn and spread the word of your practice or business in the area.</p>\n
LOCATION:Cabin Coffee of Blairsville Downtown Blairsville
UID:e.256.60639
SEQUENCE:3
DTSTAMP:20260420T024400Z
URL:https://members.visitblairsvillega.com/events/details/tri-state-business-women-s-weekly-meeting-04-04-2017-60639
END:VEVENT

END:VCALENDAR
