BEGIN:VCALENDAR
VERSION:2.0
PRODID:-//ChamberMaster//Event Calendar 2.0//EN
METHOD:PUBLISH
X-PUBLISHED-TTL:P3D
REFRESH-INTERVAL:P3D
CALSCALE:GREGORIAN
BEGIN:VEVENT
DTSTART:20151020T120000Z
DTEND:20151020T130000Z
X-MICROSOFT-CDO-ALLDAYEVENT:FALSE
SUMMARY:Tri-State Business Women's weekly meeting
DESCRIPTION:Tri State Business Women is a not for profit organization of entrepreneurial women in Union and surrounding counties\, who own\, co-own\, operate and/or accepts full responsibility for a business and is or wants to be a positive force in the community. Our vision and mission is to support one another in continuing success through education\, networking and marketing.\n\n	If you are a woman in business in Union or a surrounding county in the Tri-State area\, there is a place for you to receive support\, gain leads\, learn and spread the word of your practice or business in the area.\n\n	\n\n	Please CLICK HERE to view this week's scheduled agenda.
X-ALT-DESC;FMTTYPE=text/html:<p>\n	Tri State Business Women is a not for profit organization of entrepreneurial women in Union and surrounding counties\, who own\, co-own\, operate and/or accepts full responsibility for a business and is or wants to be a positive force in the community. Our vision and mission is to support one another in continuing success through education\, networking and marketing.</p>\n<p>\n	If you are a woman in business in Union or a surrounding county in the Tri-State area\, there is a place for you to receive support\, gain leads\, learn and spread the word of your practice or business in the area.<br />\n	<br />\n	Please&nbsp\;<a href="http://www.tri-statebusinesswomen.com/Calendar.html">CLICK HERE&nbsp\;</a>to view this week&#39\;s scheduled agenda.</p>\n
LOCATION:Blairsville Restaurant \, Blairsville\, GA
UID:e.256.12734
SEQUENCE:3
DTSTAMP:20260423T103747Z
URL:https://members.visitblairsvillega.com/events/details/tri-state-business-women-s-weekly-meeting-10-20-2015-12734
END:VEVENT

END:VCALENDAR
